BEGIN:VCALENDAR
VERSION:2.0
PRODID:-//wp-events-plugin.com//7.2.3.1//EN
TZID:Europe/Zurich
X-WR-TIMEZONE:Europe/Zurich
BEGIN:VEVENT
UID:565@steinlachkultur.com
DTSTART;TZID=Europe/Zurich:20211009T200000
DTEND;TZID=Europe/Zurich:20211009T220000
DTSTAMP:20210922T075425Z
URL:https://steinlachkultur.com/events/09-10-21-musikkabarett-chor-der-moe
 nche-benefiz/
SUMMARY:09.10.21 Musikkabarett „CHOR DER MÖNCHE“ - Benefiz
DESCRIPTION:Benefizkonzert für \nDas Musikkabarett „CHOR DER MÖNCHE“ 
 wie auch El Buen Samaritano e.V. hätten 2020 ihren 30. Geburtstag gefeier
 t – wenn nicht alles Feiern pandemiebedingt hätte verschoben werden mü
 ssen.\n\nAus diesem Anlass gibt der „CHOR DER MÖNCHE“ ein Benefizkonz
 ert für El Buen Samaritano e.V.!
ATTACH;FMTTYPE=image/jpeg:https://steinlachkultur.com/wp-content/uploads/2
 021/09/Chor-der-M21009.jpg
CATEGORIES:Musik
LOCATION:Quenstedt-Aula Mössingen\, #\, Mössingen\, 721616\, Deutschland
X-APPLE-STRUCTURED-LOCATION;VALUE=URI;X-ADDRESS=#\, Mössingen\, 721616\, D
 eutschland;X-APPLE-RADIUS=100;X-TITLE=Quenstedt-Aula Mössingen:geo:0,0
END:VEVENT
BEGIN:VTIMEZONE
TZID:Europe/Zurich
X-LIC-LOCATION:Europe/Zurich
BEGIN:DAYLIGHT
DTSTART:20210328T030000
TZOFFSETFROM:+0100
TZOFFSETTO:+0200
TZNAME:CEST
END:DAYLIGHT
END:VTIMEZONE
END:VCALENDAR