BEGIN:VCALENDAR
VERSION:2.0
PRODID:-//wp-events-plugin.com//7.2.3.1//EN
TZID:Europe/Zurich
X-WR-TIMEZONE:Europe/Zurich
BEGIN:VEVENT
UID:7945@steinlachkultur.com
DTSTART;TZID=Europe/Zurich:20241211T163000
DTEND;TZID=Europe/Zurich:20241211T180000
DTSTAMP:20240325T101033Z
URL:https://steinlachkultur.com/events/11-12-2024-fuehrung-durch-die-ausst
 ellung-1250-jahre-moessingen-und-mehr/
SUMMARY:11.12.2024: Führung durch die Ausstellung "1250 Jahre Mössingen .
 .. und mehr"
DESCRIPTION:Öffentliche Führung durch die Ausstellung "1250 Jahre Mössin
 gen ... und mehr". Die Ausstellung zeigt wie Mössingen wurde\, was es heu
 te ist. Archäologische Exponate und historische Dokumente führen von der
  Frühgeschichte über das Mittelalter bis zur Gegenwart und geben spannen
 de Einblicke in die großen Linien und kleinen Geschichten Mössingens.
ATTACH;FMTTYPE=image/jpeg:https://steinlachkultur.com/wp-content/uploads/2
 024/03/RZ-Plakat-A3-Layout-1-6.jpg
CATEGORIES:Führungen
LOCATION:Pausa Tonnenhalle\, Löwensteinplatz 1\, Mössingen\, 74116\, Deut
 schland
X-APPLE-STRUCTURED-LOCATION;VALUE=URI;X-ADDRESS=Löwensteinplatz 1\, Mössi
 ngen\, 74116\, Deutschland;X-APPLE-RADIUS=100;X-TITLE=Pausa Tonnenhalle:ge
 o:0,0
END:VEVENT
BEGIN:VTIMEZONE
TZID:Europe/Zurich
X-LIC-LOCATION:Europe/Zurich
BEGIN:STANDARD
DTSTART:20241027T020000
TZOFFSETFROM:+0200
TZOFFSETTO:+0100
TZNAME:CET
END:STANDARD
END:VTIMEZONE
END:VCALENDAR