BEGIN:VCALENDAR
VERSION:2.0
PRODID:-//wp-events-plugin.com//7.2.3.1//EN
TZID:Europe/Zurich
X-WR-TIMEZONE:Europe/Zurich
BEGIN:VEVENT
UID:8132@steinlachkultur.com
DTSTART;TZID=Europe/Zurich:20250215T100000
DTEND;TZID=Europe/Zurich:20250215T160000
DTSTAMP:20241119T065625Z
URL:https://steinlachkultur.com/events/14-02-2025-zusammen-an-einem-bild-k
 reativ-am-valentinstag-mit-henriette-2/
SUMMARY:15.02.2025 - Gemeinsam ein Bild malen! Paare kreativ! - mit Henriet
 te
DESCRIPTION:Zusammen ein einzigartiges Kunstwerk - Rund um den Valentinstag
 !\nDieser besondere Kurs ist für Paare\, die etwas Gemeinsames kreieren w
 ollen. Ein gemeinsames Kunstwerk - etwas Verbindendes - ein Geschenk für 
 sich selbst!\n\nIn lockerer\, inspirierender Atelier-Atmosphäre und mit p
 rofessioneller Anleitung entsteht ein gemeinsames Werk\, das Euch noch lan
 ge an diesen besonderen Tag erinnern wird.\n\nFeiert Eure Liebe und erlebt
  einen außergewöhnlichen Tag - nach dem Valentinstag!\n\nInkl. Begrüßu
 ngssekt\, Wasser und herrlich duftender\, frischer Pizza!\n\n(Freitag:  
   16:00 - 22:00 Uhr)\nSamstag: 10:00 - 16:00 Uhr\n\nMaterialliste erhalte
 t ihr nach bestätigter Anmeldung.\nAcrylfarben werden nach Bildgröße im
  Kurs abgerechnet. (25\,00 €/qm)\nBeide Tage können auch zusammen gebuc
 ht werden. (150 € p.P.)\n\nViele Grüße Eure Henriette
ATTACH;FMTTYPE=image/jpeg:https://steinlachkultur.com/wp-content/uploads/2
 024/11/20230604_130100.jpg
CATEGORIES:Atelier am Schloss
LOCATION:Atelier am Schloss\, Lindenstraße 44\, Gomaringen\, 72810\, Deuts
 chland
X-APPLE-STRUCTURED-LOCATION;VALUE=URI;X-ADDRESS=Lindenstraße 44\, Gomaring
 en\, 72810\, Deutschland;X-APPLE-RADIUS=100;X-TITLE=Atelier am Schloss:geo
 :0,0
END:VEVENT
BEGIN:VTIMEZONE
TZID:Europe/Zurich
X-LIC-LOCATION:Europe/Zurich
BEGIN:STANDARD
DTSTART:20241027T020000
TZOFFSETFROM:+0200
TZOFFSETTO:+0100
TZNAME:CET
END:STANDARD
END:VTIMEZONE
END:VCALENDAR