BEGIN:VCALENDAR
VERSION:2.0
PRODID:-//wp-events-plugin.com//7.2.3.1//EN
TZID:Europe/Zurich
X-WR-TIMEZONE:Europe/Zurich
BEGIN:VEVENT
UID:1750@steinlachkultur.com
DTSTART;TZID=Europe/Zurich:20220818T170000
DTEND;TZID=Europe/Zurich:20220818T180000
DTSTAMP:20220813T082353Z
URL:https://steinlachkultur.com/events/17-08-nehren-fuehrung-durch-die-aus
 stellung-mein-wirkliches-blau/
SUMMARY:18.08. Nehren - Führung durch die Ausstellung - Mein wirkliches Bl
 au
DESCRIPTION:Führung durch die aktuelle Ausstellung:\nWie entstanden Gedank
 en und Gedichte zu den Werken - oder umgekehrt?\n\nHenriette Diether führ
 t durch ihre Ausstellung:\n"Mein wirkliches Blau - Versuche das Meer zu er
 klären."
ATTACH;FMTTYPE=image/jpeg:https://steinlachkultur.com/wp-content/uploads/2
 022/07/IMG-20220625-WA0044.jpg
CATEGORIES:Ausstellungen/Museen
LOCATION:Schwanen Nehren\, Hauptstraße 28\, Nehren\, 72810\, Deutschland
X-APPLE-STRUCTURED-LOCATION;VALUE=URI;X-ADDRESS=Hauptstraße 28\, Nehren\, 
 72810\, Deutschland;X-APPLE-RADIUS=100;X-TITLE=Schwanen Nehren:geo:0,0
END:VEVENT
BEGIN:VTIMEZONE
TZID:Europe/Zurich
X-LIC-LOCATION:Europe/Zurich
BEGIN:DAYLIGHT
DTSTART:20220327T030000
TZOFFSETFROM:+0100
TZOFFSETTO:+0200
TZNAME:CEST
END:DAYLIGHT
END:VTIMEZONE
END:VCALENDAR