BEGIN:VCALENDAR
VERSION:2.0
PRODID:-//wp-events-plugin.com//7.2.3.1//EN
TZID:Europe/Zurich
X-WR-TIMEZONE:Europe/Zurich
BEGIN:VEVENT
UID:8870@steinlachkultur.com
DTSTART;TZID=Europe/Zurich:20260717T170000
DTEND;TZID=Europe/Zurich:20260717T210000
DTSTAMP:20260420T185528Z
URL:https://steinlachkultur.com/events/20-06-26-stimmungsbilder-abstract-p
 ainting-im-atelier-am-schloss/
SUMMARY:17.07.26 Stimmungsbilder Teil 1 - abstract painting im Atelier am S
 chloss
DESCRIPTION:Malerei neu erleben:  Stimmungsbilder - Ihr Stil\, Ihre Regeln
 \nEin kreatives Wochenende im Atelier am Schloß  in Zusammenarbeit mit d
 er VHS Gomaringen\nErleben Sie die Freiheit der Leinwand! In diesem 2-tg. 
 Workshop erforschen wir die Grenzen der Farbe\, von dicht bis hin zu tran
 sparenter Leichtigkeit.\nDie angewendeten Techniken funktionieren sowohl f
 ür spannende abstrakte Kompositionen als auch für expressive figürliche
  Darstellungen.\nLassen Sie sich inspirieren\, vertrauen Sie Ihrer Intuiti
 on und finden Sie Ihren Weg auf der Leinwand. Ich freue mich auf Sie!\n\n 
 	Freitag 17:00 – 21:00 Uhr\n 	Samstag 10:00 – 16:00 Uhr\n 	"Atelier am
  Schloss" in 72810 Gomaringen\, Lindenstraße 44. (Parkplätze im Schlossh
 of oder direkt vor der Tür)\n 	Anmeldung über die VHS Reutlingen. \n 	Di
 e Materialliste erhalten Sie nach bestätigter Anmeldung von dort.\n 	Fon:
  07072 9227990\, gomaringen@vhsrt.de\n\nDozentin: Henriette Striegler
ATTACH;FMTTYPE=image/jpeg:https://steinlachkultur.com/wp-content/uploads/2
 026/04/grafi-3.jpg
CATEGORIES:Atelier am Schloss,Kurse/Workshops
LOCATION:Atelier am Schloss\, Lindenstraße 44\, Gomaringen\, 72810\, Deuts
 chland
X-APPLE-STRUCTURED-LOCATION;VALUE=URI;X-ADDRESS=Lindenstraße 44\, Gomaring
 en\, 72810\, Deutschland;X-APPLE-RADIUS=100;X-TITLE=Atelier am Schloss:geo
 :0,0
END:VEVENT
BEGIN:VTIMEZONE
TZID:Europe/Zurich
X-LIC-LOCATION:Europe/Zurich
BEGIN:DAYLIGHT
DTSTART:20260329T030000
TZOFFSETFROM:+0100
TZOFFSETTO:+0200
TZNAME:CEST
END:DAYLIGHT
END:VTIMEZONE
END:VCALENDAR