BEGIN:VCALENDAR
VERSION:2.0
PRODID:-//wp-events-plugin.com//7.2.3.1//EN
TZID:Europe/Zurich
X-WR-TIMEZONE:Europe/Zurich
BEGIN:VEVENT
UID:8117@steinlachkultur.com
DTSTART;TZID=Europe/Zurich:20241121T190000
DTEND;TZID=Europe/Zurich:20241121T200000
DTSTAMP:20241029T181002Z
URL:https://steinlachkultur.com/events/23-november-vernissage-im-schloss-g
 omaringen-kreatives-gomaringen-thema-grenzen/
SUMMARY:23. November- Vernissage im Schloss Gomaringen - Kreatives Gomaring
 en - Thema Grenzen
DESCRIPTION:Einladung zur Jahresausstellung -  Kreatives Gomaringen\nThema
 : „Grenzen“\n\nLiebe Kunstinteressierte\,\n\nwir laden Sie herzlich zu
 r diesjährigen Jahresausstellung ein! Unter dem Titel „Grenzen“ haben
  wir die sichtbaren und unsichtbaren Linien erkundet\, die unser Leben for
 men. Ob politische\, persönliche\, gesellschaftliche oder kulturelle Gren
 zen – diese Ausstellung nimmt Sie mit auf eine Entdeckungsreise an die R
 änder des Bekannten und des Erlaubten.\n\nSeien Sie dabei und lassen Sie 
 sich inspirieren von vielfältigen Perspektiven\, künstlerischen Technike
 n und einem mutigen Dialog über das\, was uns trennt und verbindet. Wir f
 reuen uns darauf\, Sie und Ihre Begleitung bei unserer Vernissage begrüß
 en zu dürfen!
ATTACH;FMTTYPE=image/jpeg:https://steinlachkultur.com/wp-content/uploads/2
 024/10/Einladung2024-Quadrat-002-scaled.jpg
CATEGORIES:Vernissage/Finissage
LOCATION:Schloß Gomaringen\, Schloßhof Gomaringen\, Gomaringen\, 72810\, 
 Deutschland
X-APPLE-STRUCTURED-LOCATION;VALUE=URI;X-ADDRESS=Schloßhof Gomaringen\, Gom
 aringen\, 72810\, Deutschland;X-APPLE-RADIUS=100;X-TITLE=Schloß Gomaringe
 n:geo:0,0
END:VEVENT
BEGIN:VTIMEZONE
TZID:Europe/Zurich
X-LIC-LOCATION:Europe/Zurich
BEGIN:STANDARD
DTSTART:20241027T020000
TZOFFSETFROM:+0200
TZOFFSETTO:+0100
TZNAME:CET
END:STANDARD
END:VTIMEZONE
END:VCALENDAR