BEGIN:VCALENDAR
VERSION:2.0
PRODID:-//wp-events-plugin.com//7.2.3.1//EN
TZID:Europe/Zurich
X-WR-TIMEZONE:Europe/Zurich
BEGIN:VEVENT
UID:8706@steinlachkultur.com
DTSTART;TZID=Europe/Zurich:20250926T000000
DTEND;TZID=Europe/Zurich:20250927T000000
DTSTAMP:20250812T125629Z
URL:https://steinlachkultur.com/events/26-27-09-25-vhs-malkurs-im-atelier-
 am-schloss-stimmungsbilder/
SUMMARY:26./27.09.25 - VHS-Malkurs im Atelier am Schloß - Stimmungsbilder
DESCRIPTION:Wir verstehen die Farbe als Materie\, verdichten und lösen sie
  auf\, geben der Bildentstehung Richtung\, Fluss und Bewegung\,\nverlassen
  uns auf den Zufall und unsere intuitive Kreativität. Ein Experiment voll
 er Abenteuerlust und Überraschungen.\n\nNach einem kurzen Überblick übe
 r vorhandene Materialien und Techniken\, beginnen wir den Kurs mit dem Anm
 ischen unserer Farben.\n\nFreitag 17:00 - 21:00 Uhr\nSamstag 10:00 - 16:00
  Uhr\n\nEine Materialliste erhalten Sie nach bestätigter Anmeldung bei de
 r VHS Reutlingen.\nKurs Nr. 257B427701
ATTACH;FMTTYPE=image/jpeg:https://steinlachkultur.com/wp-content/uploads/2
 025/08/20230604_130100.jpg
CATEGORIES:Atelier am Schloss
LOCATION:Atelier am Schloss\, Lindenstraße 44\, Gomaringen\, 72810\, Deuts
 chland
X-APPLE-STRUCTURED-LOCATION;VALUE=URI;X-ADDRESS=Lindenstraße 44\, Gomaring
 en\, 72810\, Deutschland;X-APPLE-RADIUS=100;X-TITLE=Atelier am Schloss:geo
 :0,0
END:VEVENT
BEGIN:VTIMEZONE
TZID:Europe/Zurich
X-LIC-LOCATION:Europe/Zurich
BEGIN:DAYLIGHT
DTSTART:20250330T030000
TZOFFSETFROM:+0100
TZOFFSETTO:+0200
TZNAME:CEST
END:DAYLIGHT
END:VTIMEZONE
END:VCALENDAR