BEGIN:VCALENDAR
VERSION:2.0
PRODID:-//wp-events-plugin.com//7.2.3.1//EN
TZID:Europe/Zurich
X-WR-TIMEZONE:Europe/Zurich
BEGIN:VEVENT
UID:1832@steinlachkultur.com
DTSTART;TZID=Europe/Zurich:20221029T200000
DTEND;TZID=Europe/Zurich:20221029T220000
DTSTAMP:20220907T184308Z
URL:https://steinlachkultur.com/events/360-grad-live-musik-mit-gesang-goen
 ninger-musiker-2/
SUMMARY:360 Grad - Live Musik mit Gesang / Gönninger Musiker
DESCRIPTION:
CATEGORIES:Musik
LOCATION:TanzEtage Gomaringen\, Tübinger Str. 58\, Gomaringen\, 72810\, De
 utschland
X-APPLE-STRUCTURED-LOCATION;VALUE=URI;X-ADDRESS=Tübinger Str. 58\, Gomarin
 gen\, 72810\, Deutschland;X-APPLE-RADIUS=100;X-TITLE=TanzEtage Gomaringen:
 geo:0,0
END:VEVENT
BEGIN:VTIMEZONE
TZID:Europe/Zurich
X-LIC-LOCATION:Europe/Zurich
BEGIN:DAYLIGHT
DTSTART:20220327T030000
TZOFFSETFROM:+0100
TZOFFSETTO:+0200
TZNAME:CEST
END:DAYLIGHT
END:VTIMEZONE
END:VCALENDAR