BEGIN:VCALENDAR
VERSION:2.0
PRODID:-//wp-events-plugin.com//7.2.3.1//EN
TZID:Europe/Zurich
X-WR-TIMEZONE:Europe/Zurich
BEGIN:VEVENT
UID:8080@steinlachkultur.com
DTSTART;TZID=Europe/Zurich:20241206T183000
DTEND;TZID=Europe/Zurich:20241206T193000
DTSTAMP:20240916T185259Z
URL:https://steinlachkultur.com/events/ab-8-nov-salsa-anfaenger-kurs-tanze
 tage-gomaringen-ohne-vorkenntnisse-2024-12-06/
SUMMARY:ab 8. Nov. Salsa Anfänger-Kurs - TanzEtage Gomaringen - ohne Vorke
 nntnisse
DESCRIPTION:Salsa Anfänger-Kurs - ohne Vorkenntnisse\n\nTanzen mit Tanzleh
 rer Ignacio Camblor aus Kuba!\nSalsa bietet eine perfekte Mischung aus Mus
 ik\, Bewegung\, Emotion und sozialer Interaktion. Salsamusik ist rhythmisc
 h\, energiegeladen und voller Leidenschaft. Im Salsa gibt es viel Raum fü
 r Improvisation und Ausdruck.\n\nTermine:\n\n8.11.+ 15.11. + 22.11 + 6.12.
ATTACH;FMTTYPE=image/jpeg:https://steinlachkultur.com/wp-content/uploads/2
 024/09/ignacio.jpg
CATEGORIES:Tanz
LOCATION:TanzEtage Gomaringen\, Tübinger Str. 58\, Gomaringen\, 72810\, De
 utschland
X-APPLE-STRUCTURED-LOCATION;VALUE=URI;X-ADDRESS=Tübinger Str. 58\, Gomarin
 gen\, 72810\, Deutschland;X-APPLE-RADIUS=100;X-TITLE=TanzEtage Gomaringen:
 geo:0,0
END:VEVENT
BEGIN:VTIMEZONE
TZID:Europe/Zurich
X-LIC-LOCATION:Europe/Zurich
BEGIN:STANDARD
DTSTART:20241027T020000
TZOFFSETFROM:+0200
TZOFFSETTO:+0100
TZNAME:CET
END:STANDARD
END:VTIMEZONE
END:VCALENDAR