BEGIN:VCALENDAR
VERSION:2.0
PRODID:-//wp-events-plugin.com//7.2.3.1//EN
TZID:Europe/Zurich
X-WR-TIMEZONE:Europe/Zurich
BEGIN:VEVENT
UID:8142@steinlachkultur.com
DTSTART;TZID=Europe/Zurich:20250116T080000
DTEND;TZID=Europe/Zurich:20250116T190000
DTSTAMP:20241114T063641Z
URL:https://steinlachkultur.com/events/artmoessingen-kunst-im-gzm-gesundhe
 itszentrum-moessingen-2025-01-16/
SUMMARY:ARTmössingen - Kunst im GZM (Gesundheitszentrum Mössingen)
DESCRIPTION:ARTmössingen präsentiert: "Kunst im GZM – Mössinger feine 
 Art" - Vernissage am Do\, 21.09.24\, 19h\n\n\nIn dieser besonderen Ausstel
 lung feiern wir nicht nur die Kunst\, sondern auch die Geschichte und das 
 Erbe unserer Heimatstadt Mössingen. Anlässlich des 1250-jährigen Jubil
 äums vereinen wir Werke\, die die Vielfalt der künstlerischen Ausdrucksf
 ormen widerspiegeln: Malereien in unterschiedlichsten Techniken\, Fotograf
 ien und künstlerisch überarbeitete Fotos\, alle mit einem direkten Bezug
  zu Mössingen und seiner einzigartigen Atmosphäre.\n\nIn diesem Jahr wur
 de viel gefeiert\, gewürdigt und gratuliert. Nun setzen wir mit unserer A
 usstellung den „feinen“ Schlussakkord. Unsere Künstlerinnen und Küns
 tler haben mit Hingabe und Kreativität ihre Eindrücke und Emotionen in d
 en Werken eingefangen\, um einen bleibenden Eindruck dieses historischen M
 eilensteins zu hinterlassen. Es sind Werke entstanden\, die sowohl die Ver
 gangenheit als auch die Gegenwart unserer Stadt in neuen Facetten beleucht
 en und uns mit Stolz auf das blicken lassen\, was Mössingen ausmacht.\n\n
 Lassen Sie sich von der Vielfalt der Kunstwerke inspirieren und tauchen Si
 e ein in die Geschichte Mössingens – festgehalten auf Leinwand und in F
 otografie. Wir laden Sie herzlich ein\, mit uns gemeinsam diesen „feinen
 “ Abschluss des Jubiläumsjahres zu feiern.
ATTACH;FMTTYPE=image/jpeg:https://steinlachkultur.com/wp-content/uploads/2
 024/11/IMG_0540.jpg
CATEGORIES:Ausstellungen/Museen
LOCATION:GZM Gesundheitszentrum Mössingen\, Bahnhofstr. 5\, Bahnhofstr. 5 
 \, Mössingen \, 72116\, Deutschland
X-APPLE-STRUCTURED-LOCATION;VALUE=URI;X-ADDRESS=Bahnhofstr. 5 \, Mössingen
  \, 72116\, Deutschland;X-APPLE-RADIUS=100;X-TITLE=GZM Gesundheitszentrum 
 Mössingen\, Bahnhofstr. 5:geo:0,0
END:VEVENT
BEGIN:VTIMEZONE
TZID:Europe/Zurich
X-LIC-LOCATION:Europe/Zurich
BEGIN:STANDARD
DTSTART:20241027T020000
TZOFFSETFROM:+0200
TZOFFSETTO:+0100
TZNAME:CET
END:STANDARD
END:VTIMEZONE
END:VCALENDAR