BEGIN:VCALENDAR
VERSION:2.0
PRODID:-//wp-events-plugin.com//7.2.3.1//EN
TZID:Europe/Zurich
X-WR-TIMEZONE:Europe/Zurich
BEGIN:VEVENT
UID:7542@steinlachkultur.com
DTSTART;TZID=Europe/Zurich:20241025T143000
DTEND;TZID=Europe/Zurich:20241025T160000
DTSTAMP:20240328T145458Z
URL:https://steinlachkultur.com/events/blick-ins-stadtarchiv-moessingen-wi
 e-erforsche-ich-meine-familie-2/
SUMMARY:25.10.2024: Blick ins Stadtarchiv Mössingen - Wie erforsche ich me
 ine Familie
DESCRIPTION:Stadtarchivar David Bauer gibt einen Einblick ins Archiv und ze
 igt\, wie man bei der Erforschung der eigenen Familie vorgehen kann und we
 lche Archivalien  dafür nützlich und hilfreich sein können.
ATTACH;FMTTYPE=image/jpeg:https://steinlachkultur.com/wp-content/uploads/2
 024/03/Blick-ins-Archiv-klein-1-scaled.jpg
CATEGORIES:Führungen
LOCATION:Stadtarchiv Mössingen\, im UG des Rathauses\, Freiherr-vom-Stein-
 Str. 20\, Mössingen\, 72166\, Deutschland
X-APPLE-STRUCTURED-LOCATION;VALUE=URI;X-ADDRESS=Freiherr-vom-Stein-Str. 20\
 , Mössingen\, 72166\, Deutschland;X-APPLE-RADIUS=100;X-TITLE=Stadtarchiv 
 Mössingen\, im UG des Rathauses:geo:0,0
END:VEVENT
BEGIN:VTIMEZONE
TZID:Europe/Zurich
X-LIC-LOCATION:Europe/Zurich
BEGIN:DAYLIGHT
DTSTART:20240331T030000
TZOFFSETFROM:+0100
TZOFFSETTO:+0200
TZNAME:CEST
END:DAYLIGHT
END:VTIMEZONE
END:VCALENDAR