BEGIN:VCALENDAR
VERSION:2.0
PRODID:-//wp-events-plugin.com//7.2.3.1//EN
TZID:Europe/Zurich
X-WR-TIMEZONE:Europe/Zurich
BEGIN:VEVENT
UID:8058@steinlachkultur.com
DTSTART;TZID=Europe/Zurich:20241129T183000
DTEND;TZID=Europe/Zurich:20241129T223000
DTSTAMP:20240807T093336Z
URL:https://steinlachkultur.com/events/der-rebell-ein-abendessen-mit-ewald
 -lienen/
SUMMARY:"Der Rebell" - Ein Abendessen mit Ewald Lienen
DESCRIPTION:Wahlweise als Revoluzzer\, Kommunist oder Ökosozialist wurde e
 r in seiner aktiven Zeit als Bundesligastar immer mal beschimpft: Ewald Li
 enen\, mit langen Haaren unterwegs\, kam eher als Rebell rüber\, nicht wi
 e die brave oder angepasste Konkurrenz a la Franz Beckenbauer. Das hindert
 e ihn nicht\, ein erfolgreicher Profi zu werden\, der lange als Spieler de
 n Bundesligafußball und später als Trainer den deutschen und internation
 alen Fußball bereicherte.\nAls Trainer von AEK Athen erlebt er bittere St
 unden\, wovon der Kultfilm „Ewald Lienen - Eine griechische Tragödie“
  spielt\, der immer wieder in verschiedenen Sendern ausgestrahlt wird.\nLi
 enen engagierte sich politisch in den 1980er Jahren als Mit-Initiator von 
 „Sportler gegen Atomraketen – Sportler für den Frieden“. Auch kandi
 dierte er als parteiloser Kandidat bei den Landtagswahlen 1985 in Nordrhei
 n-Westfalen für das linke Wahlbündnis Friedensliste.\nHeute engagiert si
 ch Lienen\, der dem Profifußball noch als Fernsehexperte verbunden ist\, 
 für Inklusion und als Klimamanager in seiner Heimat und sagt etwa\, bezog
 en auf die brasilianischen Regenwälder\, Sätze wie: „Wenn wir es nicht
  hinkriegen\, sie zu schützen\, dann wird uns das Klima um die Ohren flie
 gen. Deutschland muss Klimaweltmeister werden\, nicht Fußballweltmeister
 “. „Das“\, so der Fußballexperte süffisant\, „droht derzeit ohne
 hin nicht“.\nDarüber und über vieles andere spricht Ewald Lienen im In
 terview mit Joachim Kreibich in den Pausen eines Vier-Gang-Menüs.\nEin sp
 annender Abend über Profifußball\, Gesellschaft\, Inklusion und Klimasch
 utz.\n\n-JETZT KARTEN SICHERN-\n\n-Auch als Geschenk geeignet!-\n\nKartenr
 eservierungen unter Angabe Ihres Namens\, Anschrift\, Mobilnummer und Emai
 l-Adresse mit Betreff: "Ein Abendessen mit Ewald Lienen 29.11.2024"\n\n-Di
 es ist eine Veranstaltung des Forums Nachhaltigkeit Nehren (FNN).  Das 
 „Forum Nachhaltigkeit Nehren“ (FNN) wird getragen vom SPD-Ortsverein N
 ehren und dem Bündnis nachhaltige Mobilität – S T E I N L A C H T A L
   e.V.
ATTACH;FMTTYPE=image/jpeg:https://steinlachkultur.com/wp-content/uploads/2
 024/08/Lienen-2-privat.jpg
CATEGORIES:Theater/Kino,Vernissage/Finissage,Vorträge/Lesungen
LOCATION:Gasthaus Schwanen Nehren\, Hauptstr. 28\, Nehren\, 72147\, Deutsch
 land
X-APPLE-STRUCTURED-LOCATION;VALUE=URI;X-ADDRESS=Hauptstr. 28\, Nehren\, 721
 47\, Deutschland;X-APPLE-RADIUS=100;X-TITLE=Gasthaus Schwanen Nehren:geo:0
 ,0
END:VEVENT
BEGIN:VTIMEZONE
TZID:Europe/Zurich
X-LIC-LOCATION:Europe/Zurich
BEGIN:STANDARD
DTSTART:20241027T020000
TZOFFSETFROM:+0200
TZOFFSETTO:+0100
TZNAME:CET
END:STANDARD
END:VTIMEZONE
END:VCALENDAR