BEGIN:VCALENDAR
VERSION:2.0
PRODID:-//wp-events-plugin.com//7.2.3.1//EN
TZID:Europe/Zurich
X-WR-TIMEZONE:Europe/Zurich
BEGIN:VEVENT
UID:7301@steinlachkultur.com
DTSTART;TZID=Europe/Zurich:20230731T080000
DTEND;TZID=Europe/Zurich:20230731T120000
DTSTAMP:20230821T091927Z
URL:https://steinlachkultur.com/events/energie-aktuelle-ausstellung-im-rat
 haus-gomaringen-kreatives-gomaringen-2-2023-07-31/
SUMMARY:Energie - aktuelle Ausstellung im Rathaus Gomaringen - Kreatives Go
 maringen
DESCRIPTION:40 Jahre Kreatives Gomaringen - Jahresausstellung 2023\nAUSSTEL
 LUNG: 21. Juli bis 18. September 2023\nim RATHAUS Gomaringen\, Lindenstra
 ße 63\n\naktuelle Führungen durch die Austellung: 23.08. und 30.08.2023 
 um jeweils 19 Uhr\n\nÖffnungszeiten:\nMo. 8-12 + 14-16h\, Di. 8-12h\, Do.
  8-12h +14-18h\, Fr. 8-12h und nach Anmeld.\;\n\nDankeschön an:\nMartin A
 dler\nBettina Casabianca\nHenriette Diether\nEva Dölker-Heim\nAngela Hamm
 er\nAnnette Jakobi\nJoachim Riehle\nLivia Scholz-Breznay\nBirgit Wallisser
 -Nuber\n\n40 Jahre KREATIVES GOMARINGEN  -  ENERGIE
ATTACH;FMTTYPE=image/jpeg:https://steinlachkultur.com/wp-content/uploads/2
 023/08/Lach_E_400x400-2.jpg
CATEGORIES:Ausstellungen/Museen
LOCATION:Rathaus Gomaringen\, Lindenstraße 63\, Gomaringen\, 72810\, Deuts
 chland
X-APPLE-STRUCTURED-LOCATION;VALUE=URI;X-ADDRESS=Lindenstraße 63\, Gomaring
 en\, 72810\, Deutschland;X-APPLE-RADIUS=100;X-TITLE=Rathaus Gomaringen:geo
 :0,0
END:VEVENT
BEGIN:VTIMEZONE
TZID:Europe/Zurich
X-LIC-LOCATION:Europe/Zurich
BEGIN:DAYLIGHT
DTSTART:20230326T030000
TZOFFSETFROM:+0100
TZOFFSETTO:+0200
TZNAME:CEST
END:DAYLIGHT
END:VTIMEZONE
END:VCALENDAR