BEGIN:VCALENDAR
VERSION:2.0
PRODID:-//wp-events-plugin.com//7.2.3.1//EN
TZID:Europe/Zurich
X-WR-TIMEZONE:Europe/Zurich
BEGIN:VEVENT
UID:8354@steinlachkultur.com
DTSTART;TZID=Europe/Zurich:20250221T200000
DTEND;TZID=Europe/Zurich:20250221T220000
DTSTAMP:20250203T182927Z
URL:https://steinlachkultur.com/events/fr-21-februar-1924-bootleggers-even
 ing-im-cafe-eisvogel-nehren/
SUMMARY:Fr. 21. Februar - 1924 Bootlegger’s Evening im Cafe Eisvogel Nehr
 en
DESCRIPTION:1924 Bootlegger’s Evening – feat. „Black Patti“ live\nE
 ine wilde Party der Alkoholschmuggler 1924 während der Prohibition\n\nTau
 cht mit uns ein in die Welt der Schwarzbrenner\, Schmuggler\, Panscher\, F
 alschspieler – alles begleitet von illegalem Glückspiel und echtem Blue
 s der 1920s. Die fantatstischen „Black Patti“ spielen Blues und Root M
 usic\, wie sie authentischer auf diesem Kontinent nicht zu bekommen ist. W
 eswegen „Black Patti“ auch gerne in den USA touren.\n\nUnd dass Blues 
 auch lustig sein kann könnt ihr Euch auf YouTube anschauen.\n\nWer mitfei
 ern will muss sich auf einiges gefasst machen\, denn wir werden fast alles
  versuchen\, was 1924 illegal oder anrüchig war. Und natürlich laden wir
  dazu ein\, sich zeitgenössisch zu kleiden.\n\nBlack Patty meets Black Ja
 ck – lasst es euch nicht entgehen!\n\nBeginn 20:00 Uhr – Eintritt EUR 
 23\,-
ATTACH;FMTTYPE=image/jpeg:https://steinlachkultur.com/wp-content/uploads/2
 025/02/Black-Patti-411x1024-1.jpg
CATEGORIES:Musik
LOCATION:Vintage-Café Eisvogel\, Reutlinger Str. 29\, Nehren\, 72147\, Deu
 tschland
X-APPLE-STRUCTURED-LOCATION;VALUE=URI;X-ADDRESS=Reutlinger Str. 29\, Nehren
 \, 72147\, Deutschland;X-APPLE-RADIUS=100;X-TITLE=Vintage-Café Eisvogel:g
 eo:0,0
END:VEVENT
BEGIN:VTIMEZONE
TZID:Europe/Zurich
X-LIC-LOCATION:Europe/Zurich
BEGIN:STANDARD
DTSTART:20241027T020000
TZOFFSETFROM:+0200
TZOFFSETTO:+0100
TZNAME:CET
END:STANDARD
END:VTIMEZONE
END:VCALENDAR