BEGIN:VCALENDAR
VERSION:2.0
PRODID:-//wp-events-plugin.com//7.2.3.1//EN
TZID:Europe/Zurich
X-WR-TIMEZONE:Europe/Zurich
BEGIN:VEVENT
UID:8357@steinlachkultur.com
DTSTART;TZID=Europe/Zurich:20250411T200000
DTEND;TZID=Europe/Zurich:20250411T220000
DTSTAMP:20250203T185315Z
URL:https://steinlachkultur.com/events/freitag-11-april-sascha-kommer-cele
 sta-trio-vintage-vafe-eisvogel-nehren/
SUMMARY:Freitag 11. April - Sascha Kommer Celesta Trio - Vintage Vafe Eisvo
 gel Nehren
DESCRIPTION:\n\nThe Sascha Kommer Celesta Trio\nWenn der Jazz der 30er und 
 40er von Musikern gespielt wird\, die für die Ästhetik zwischen Speakeas
 y und Streamline moderne brennen\, ja den Spirit der Swing-Ära aufgesogen
  haben – dann wird immer eine Sensation daraus! Besonders\, wenn neben d
 en drei Gentlemen noch eine Diva mit von der Partie ist: Die Celesta! Nein
 \, nein\, singen wird sie nicht. Die Celesta ist ein Instrument\, das auss
 ieht wie ein Klavier\, aber klingt wie ein Glockenspiel. Die 30er waren vo
 ll von wildem Jazz und musikalischen Experimenten. Die Celesta darf bei Sa
 scha Kommer ihre sanfte und romantische Seite ganz ausleben.\n\nFreut Euch
  auf einen Sound\, wie ihr ihn nur ganz selten hören könnt.\n\nBeginn 20
 :00 Uhr – Eintritt EUR 23\,-\n\n\n
ATTACH;FMTTYPE=image/jpeg:https://steinlachkultur.com/wp-content/uploads/2
 025/02/Sascha-Kommer-ohne-Daten-1024x1024-1.png
CATEGORIES:Musik
LOCATION:Eisvogel Vintage – The 1930s Bar Experience\, Reutlinger Str. 29
 \, Nehren\, 72147\, Deutschland
X-APPLE-STRUCTURED-LOCATION;VALUE=URI;X-ADDRESS=Reutlinger Str. 29\, Nehren
 \, 72147\, Deutschland;X-APPLE-RADIUS=100;X-TITLE=Eisvogel Vintage – The
  1930s Bar Experience:geo:0,0
END:VEVENT
BEGIN:VTIMEZONE
TZID:Europe/Zurich
X-LIC-LOCATION:Europe/Zurich
BEGIN:DAYLIGHT
DTSTART:20250330T030000
TZOFFSETFROM:+0100
TZOFFSETTO:+0200
TZNAME:CEST
END:DAYLIGHT
END:VTIMEZONE
END:VCALENDAR