BEGIN:VCALENDAR
VERSION:2.0
PRODID:-//wp-events-plugin.com//7.2.3.1//EN
TZID:Europe/Zurich
X-WR-TIMEZONE:Europe/Zurich
BEGIN:VEVENT
UID:7336@steinlachkultur.com
DTSTART;TZID=Europe/Zurich:20231026T190000
DTEND;TZID=Europe/Zurich:20231026T203000
DTSTAMP:20230830T145757Z
URL:https://steinlachkultur.com/events/gesunder-starker-ruecken-beweglich-
 und-mobil-bis-ins-hohe-alter/
SUMMARY:Gesunder\, starker Rücken\, ... beweglich und mobil bis ins hohe A
 lter
DESCRIPTION:Erfahren Sie in diesem Vortrag mehr über die Anatomie und Funk
 tionen der Wirbelsäule\, aber auch Ursachen und Prävention von Rückensc
 hmerzen. Zudem erhalten Sie vom Referenten Uwe Beck Infos und Tipps zu ein
 er rückengerechten Lebensweise.\n\n237C111200\n\n 
CATEGORIES:Vorträge/Lesungen
LOCATION:Bürgersaal Schloß Gomaringen\, Schlosshof 1\, Gomaringen\, 72810
 \, Deutschland
X-APPLE-STRUCTURED-LOCATION;VALUE=URI;X-ADDRESS=Schlosshof 1\, Gomaringen\,
  72810\, Deutschland;X-APPLE-RADIUS=100;X-TITLE=Bürgersaal Schloß Gomari
 ngen:geo:0,0
END:VEVENT
BEGIN:VTIMEZONE
TZID:Europe/Zurich
X-LIC-LOCATION:Europe/Zurich
BEGIN:DAYLIGHT
DTSTART:20230326T030000
TZOFFSETFROM:+0100
TZOFFSETTO:+0200
TZNAME:CEST
END:DAYLIGHT
END:VTIMEZONE
END:VCALENDAR