BEGIN:VCALENDAR
VERSION:2.0
PRODID:-//wp-events-plugin.com//7.2.3.1//EN
TZID:Europe/Zurich
X-WR-TIMEZONE:Europe/Zurich
BEGIN:VEVENT
UID:1830@steinlachkultur.com
DTSTART;TZID=Europe/Zurich:20221001T200000
DTEND;TZID=Europe/Zurich:20221001T230000
DTSTAMP:20220907T183631Z
URL:https://steinlachkultur.com/events/griechischer-abend/
SUMMARY:Griechischer Abend
DESCRIPTION:Abend mit griechischer Live Musik mit 3 Musikern unter der Leit
 ung von Nikos Hatziliadis\, leckerem Gourmet-Teller und Ouzo\, griechische
 n Impressionen in Wort und Bild (Thomas Wied) und gemeinsamem griechischem
  Tanz unter Anleitung von Nikos Hatziliadis. Die Anzahl der Besucher ist a
 uf 30-40 Personen begrenzt. Also bei Interesse baldigst melden. Plätze we
 rden nach Reihenfolge der Kartenbestellung reserviert\n\n&nbsp\;\n\n&nbsp\
 ;
CATEGORIES:Feste
LOCATION:TanzEtage Gomaringen\, Tübinger Str. 58\, Gomaringen\, 72810\, De
 utschland
X-APPLE-STRUCTURED-LOCATION;VALUE=URI;X-ADDRESS=Tübinger Str. 58\, Gomarin
 gen\, 72810\, Deutschland;X-APPLE-RADIUS=100;X-TITLE=TanzEtage Gomaringen:
 geo:0,0
END:VEVENT
BEGIN:VTIMEZONE
TZID:Europe/Zurich
X-LIC-LOCATION:Europe/Zurich
BEGIN:DAYLIGHT
DTSTART:20220327T030000
TZOFFSETFROM:+0100
TZOFFSETTO:+0200
TZNAME:CEST
END:DAYLIGHT
END:VTIMEZONE
END:VCALENDAR