BEGIN:VCALENDAR
VERSION:2.0
PRODID:-//wp-events-plugin.com//7.2.3.1//EN
TZID:Europe/Zurich
X-WR-TIMEZONE:Europe/Zurich
BEGIN:VEVENT
UID:1754@steinlachkultur.com
DTSTART;TZID=Europe/Zurich:20220925T000000
DTEND;TZID=Europe/Zurich:20221231T000000
DTSTAMP:20220824T140913Z
URL:https://steinlachkultur.com/events/hans-vaihinger-weltphilosoph-aus-de
 m-steinlachtal/
SUMMARY:Hans Vaihinger - Weltphilosoph aus dem Steinlachtal
DESCRIPTION:Eröffnung der Ausstellung am Sonntag\, 25. September 2022 um 1
 4.00 Uhr im Rathaus Nehren.\n\n&nbsp\;\n\nDie Ausstellung kann zu den Öff
 nungszeiten des Rathauses besucht werden:\n\nMontag und Freitag von 8.00 b
 is 12.00 Uhr\n\nMittwoch von 8.00 bis 12.00 Uhr und von 15.00 bis 18.00 Uh
 r
ATTACH;FMTTYPE=image/jpeg:https://steinlachkultur.com/wp-content/uploads/2
 022/08/Plakat-Ausstellung.jpg
CATEGORIES:Ausstellungen/Museen
LOCATION:Rathaus Nehren\, Hauptstraße 32\, Nehren\, 72147\, Deutschland
X-APPLE-STRUCTURED-LOCATION;VALUE=URI;X-ADDRESS=Hauptstraße 32\, Nehren\, 
 72147\, Deutschland;X-APPLE-RADIUS=100;X-TITLE=Rathaus Nehren:geo:0,0
END:VEVENT
BEGIN:VTIMEZONE
TZID:Europe/Zurich
X-LIC-LOCATION:Europe/Zurich
BEGIN:DAYLIGHT
DTSTART:20220327T030000
TZOFFSETFROM:+0100
TZOFFSETTO:+0200
TZNAME:CEST
END:DAYLIGHT
BEGIN:STANDARD
DTSTART:20221030T020000
TZOFFSETFROM:+0200
TZOFFSETTO:+0100
TZNAME:CET
END:STANDARD
END:VTIMEZONE
END:VCALENDAR