BEGIN:VCALENDAR
VERSION:2.0
PRODID:-//wp-events-plugin.com//7.2.3.1//EN
TZID:Europe/Zurich
X-WR-TIMEZONE:Europe/Zurich
BEGIN:VEVENT
UID:8059@steinlachkultur.com
DTSTART;TZID=Europe/Zurich:20240807T090000
DTEND;TZID=Europe/Zurich:20240807T110000
DTSTAMP:20240805T142335Z
URL:https://steinlachkultur.com/events/klatschmohncafe-in-der-tanzetage/
SUMMARY:Klatschmohncafe in der TanzEtage
DESCRIPTION:Gemütliches Frühstück in netter Runde. Bitte möglichst bis 
 Montag anmelden per Mail.
ATTACH;FMTTYPE=image/jpeg:https://steinlachkultur.com/wp-content/uploads/2
 024/08/IMG-20240805-WA0003.jpg
CATEGORIES:Feste
LOCATION:TanzEtage Gomaringen\, Tübinger Str. 58\, Gomaringen\, 72810\, De
 utschland
X-APPLE-STRUCTURED-LOCATION;VALUE=URI;X-ADDRESS=Tübinger Str. 58\, Gomarin
 gen\, 72810\, Deutschland;X-APPLE-RADIUS=100;X-TITLE=TanzEtage Gomaringen:
 geo:0,0
END:VEVENT
BEGIN:VTIMEZONE
TZID:Europe/Zurich
X-LIC-LOCATION:Europe/Zurich
BEGIN:DAYLIGHT
DTSTART:20240331T030000
TZOFFSETFROM:+0100
TZOFFSETTO:+0200
TZNAME:CEST
END:DAYLIGHT
END:VTIMEZONE
END:VCALENDAR