BEGIN:VCALENDAR
VERSION:2.0
PRODID:-//wp-events-plugin.com//7.2.3.1//EN
TZID:Europe/Zurich
X-WR-TIMEZONE:Europe/Zurich
BEGIN:VEVENT
UID:7333@steinlachkultur.com
DTSTART;TZID=Europe/Zurich:20231012T183000
DTEND;TZID=Europe/Zurich:20231012T210000
DTSTAMP:20230830T144323Z
URL:https://steinlachkultur.com/events/klimaschutz-wir-sind-dabei-photovol
 taik-jetzt-erst-recht-verdaemmt-noch-mal-aktuelle-gesetze-und-foerderprogr
 amme/
SUMMARY:Klimaschutz: Wir sind dabei!  Photovoltaik\; jetzt erst recht! Verd
 ämmt noch mal! Aktuelle Gesetze und Förderprogramme!
DESCRIPTION:An diesem Abend berichten drei Referenten der Agentur für Klim
 aschutz Tübingen über grundlegende Aspekte zum Thema Klimaschutz. Nach d
 en Vorträgen besteht die Möglichkeit Fragen zu stellen.\n\nPhotovoltaik 
 - jetzt erst recht! Felix Schneider 18:30\;\n\n Verdämmt nochmal! Andreas
  Nouskas 19:15\; \n\nAktuelle Gesetze und Förderprogramme: Daniel Bearzat
 to 20:00\n\n237A532006\n\n 
ATTACH;FMTTYPE=image/jpeg:https://steinlachkultur.com/wp-content/uploads/2
 023/08/CO2_Baum.jpg
CATEGORIES:Vorträge/Lesungen
LOCATION:Sport- und Kulturhalle Gomaringen\, Haydnstraße 22\, Gomaringen\,
  72810\, Deutschland
X-APPLE-STRUCTURED-LOCATION;VALUE=URI;X-ADDRESS=Haydnstraße 22\, Gomaringe
 n\, 72810\, Deutschland;X-APPLE-RADIUS=100;X-TITLE=Sport- und Kulturhalle 
 Gomaringen:geo:0,0
END:VEVENT
BEGIN:VTIMEZONE
TZID:Europe/Zurich
X-LIC-LOCATION:Europe/Zurich
BEGIN:DAYLIGHT
DTSTART:20230326T030000
TZOFFSETFROM:+0100
TZOFFSETTO:+0200
TZNAME:CEST
END:DAYLIGHT
END:VTIMEZONE
END:VCALENDAR