BEGIN:VCALENDAR
VERSION:2.0
PRODID:-//wp-events-plugin.com//7.2.3.1//EN
TZID:Europe/Zurich
X-WR-TIMEZONE:Europe/Zurich
BEGIN:VEVENT
UID:1757@steinlachkultur.com
DTSTART;TZID=Europe/Zurich:20220903T170000
DTEND;TZID=Europe/Zurich:20220903T200000
DTSTAMP:20220826T144707Z
URL:https://steinlachkultur.com/events/magie-der-worte/
SUMMARY:Magie der Worte
DESCRIPTION:In meisterhaft konzentrierter Form führt uns Christoph Ransmay
 r situativ zu besonderen Orten in aller Welt\, die menschlich\, geografisc
 h\, politisch\, geschichtlich sowie naturkundlich tief berühren und bezau
 bern können - als sei man selbst dabei gewesen!\nDie schriftstellerische 
 Meisterschaft wird in der Lesung von Arno Pillwein mit gemeinsamen Betrach
 tungen zu einem außergewöhnlichen Ereignis.\n\n\n 	Es gibt Wasser\, Wein
  und Salziges.\n 	Eintritt frei – für einen wertschätzenden Beitrag da
 nken wir.\n 	Für die Planung bitten wir um eine kurze Anmeldung.\n
ATTACH;FMTTYPE=image/jpeg:https://steinlachkultur.com/wp-content/uploads/2
 022/08/ransmayr-email.jpg
CATEGORIES:Vorträge/Lesungen
LOCATION:Kultursalon Albstadt\, Poststraße 52\, Albstadt Ebingen\, 72458\,
  Deutschland
X-APPLE-STRUCTURED-LOCATION;VALUE=URI;X-ADDRESS=Poststraße 52\, Albstadt E
 bingen\, 72458\, Deutschland;X-APPLE-RADIUS=100;X-TITLE=Kultursalon Albsta
 dt:geo:0,0
END:VEVENT
BEGIN:VTIMEZONE
TZID:Europe/Zurich
X-LIC-LOCATION:Europe/Zurich
BEGIN:DAYLIGHT
DTSTART:20220327T030000
TZOFFSETFROM:+0100
TZOFFSETTO:+0200
TZNAME:CEST
END:DAYLIGHT
END:VTIMEZONE
END:VCALENDAR