BEGIN:VCALENDAR
VERSION:2.0
PRODID:-//wp-events-plugin.com//7.2.3.1//EN
TZID:Europe/Zurich
X-WR-TIMEZONE:Europe/Zurich
BEGIN:VEVENT
UID:8088@steinlachkultur.com
DTSTART;TZID=Europe/Zurich:20241108T170000
DTEND;TZID=Europe/Zurich:20241108T210000
DTSTAMP:20241015T185343Z
URL:https://steinlachkultur.com/events/malkurs-im-atelier-am-schloss-gomar
 ingen-25-26-10-2024-farbwelten/
SUMMARY:letzter Pinselstrich - angefangene Bilder mit Beratung (Henriette) 
 vollenden - Atelier am Schloss - Gomaringen\, 08.11.2024
DESCRIPTION:Vollendet - Dein Kurs für unfertige Werke!\nUnter Beratung und
  Anleitung verleihst du deinen begonnenen Bildern den letzten Schliff.\nBr
 ing deine Leinwand mit und mach aus Deinem  Werk ein Kunstwerk!\n\nKleine
  Gruppe mit individueller Beratung und inkl. Farben.\nKursleiterin: Henrie
 tte Striegler\n\nKurszeiten:  17:00 Uhr - 21:00 Uhr\n\n&nbsp\;
ATTACH;FMTTYPE=image/jpeg:https://steinlachkultur.com/wp-content/uploads/2
 024/09/Welle_aqu_E.jpg
CATEGORIES:Atelier am Schloss
LOCATION:Atelier am Schloss\, Lindenstraße 44\, Gomaringen\, 72810\, Deuts
 chland
X-APPLE-STRUCTURED-LOCATION;VALUE=URI;X-ADDRESS=Lindenstraße 44\, Gomaring
 en\, 72810\, Deutschland;X-APPLE-RADIUS=100;X-TITLE=Atelier am Schloss:geo
 :0,0
END:VEVENT
BEGIN:VTIMEZONE
TZID:Europe/Zurich
X-LIC-LOCATION:Europe/Zurich
BEGIN:STANDARD
DTSTART:20241027T020000
TZOFFSETFROM:+0200
TZOFFSETTO:+0100
TZNAME:CET
END:STANDARD
END:VTIMEZONE
END:VCALENDAR