BEGIN:VCALENDAR
VERSION:2.0
PRODID:-//wp-events-plugin.com//7.2.3.1//EN
TZID:Europe/Zurich
X-WR-TIMEZONE:Europe/Zurich
BEGIN:VEVENT
UID:8096@steinlachkultur.com
DTSTART;TZID=Europe/Zurich:20241130T100000
DTEND;TZID=Europe/Zurich:20241130T160000
DTSTAMP:20241116T205401Z
URL:https://steinlachkultur.com/events/malkurs-im-atelier-am-schloss-gomar
 ingen-25-26-10-2024-impulse-und-zwischenraeume/
SUMMARY:Malkurs im Atelier am Schloss - Gomaringen\, 30.11.2024 (Henriette)
  - Stimmungsbilder - mögliche Fortsetzung d. VHS Kurs am 29.11.2024
DESCRIPTION:Stimmungsbilder - Fortsetzung des VHS-Kurses vom 29.11.2024\n(2
 -tägiger Malkurs in Zusammenarbeit mit der VHS Gomaringen)\n\nWir versteh
 en die Farbe als Materie\, verdichten und lösen sie auf\, geben der Bilde
 ntstehung Richtung\, Fluss und Bewegung\,\nverlassen uns auf den Zufall un
 d unsere intuitive Kreativität. Ein Experiment voller Abenteuerlust und 
 Überraschungen.\n\nNach einem kurzen Überblick über vorhandene Material
 ien und Techniken\, beginnen wir den Kurs mit dem Anmischen unserer Farben
 . (Pigmente/Acryl)\nWir lernen kreativitätsfördernde Übungen kennen und
  machen Erfahrungen mit eigenen kreativen Prozessen.\n\nKeine Vorkenntniss
 e erforderlich.\nKleine Gruppe mit individueller Beratung.\nAcrylfarben we
 rden nach Bildgröße im Kurs abgerechnet. (25\,00 €/qm)\nEine Materiall
 iste erhalten Sie nach bestätigter Anmeldung.\nKursleitung: Henriette Str
 iegler\n\nKurszeiten:\nfreitags:      17:00 Uhr - 21:00 Uhr (s. VHS R
 eutlingen/Gomaringen)\nsamstags:   10:00 Uhr - 16:00 Uhr\ninkl. Mittagsp
 ause\n\n10% Ermäßigung für den Samstagskurs bei Teilnahme an beiden Tag
 en!\n\n&nbsp\;
ATTACH;FMTTYPE=image/jpeg:https://steinlachkultur.com/wp-content/uploads/2
 024/09/Lach_E.jpg
CATEGORIES:Atelier am Schloss
LOCATION:Atelier am Schloss\, Lindenstraße 44\, Gomaringen\, 72810\, Deuts
 chland
X-APPLE-STRUCTURED-LOCATION;VALUE=URI;X-ADDRESS=Lindenstraße 44\, Gomaring
 en\, 72810\, Deutschland;X-APPLE-RADIUS=100;X-TITLE=Atelier am Schloss:geo
 :0,0
END:VEVENT
BEGIN:VTIMEZONE
TZID:Europe/Zurich
X-LIC-LOCATION:Europe/Zurich
BEGIN:STANDARD
DTSTART:20241027T020000
TZOFFSETFROM:+0200
TZOFFSETTO:+0100
TZNAME:CET
END:STANDARD
END:VTIMEZONE
END:VCALENDAR