BEGIN:VCALENDAR
VERSION:2.0
PRODID:-//wp-events-plugin.com//7.2.3.1//EN
TZID:Europe/Zurich
X-WR-TIMEZONE:Europe/Zurich
BEGIN:VEVENT
UID:8097@steinlachkultur.com
DTSTART;TZID=Europe/Zurich:20241129T170000
DTEND;TZID=Europe/Zurich:20241129T210000
DTSTAMP:20241116T205012Z
URL:https://steinlachkultur.com/events/malkurs-im-atelier-am-schloss-gomar
 ingen-30-11-2024-stimmungsbilder-fortsetzung-zum-vhs-kurs-am-29-11-2024/
SUMMARY:VHS Gomaringen -Stimmungsbilder - Malkurs mit Henriette im - Atelie
 r am Schloss Gomaringen  29.11.2024
DESCRIPTION:VHS Reutlingen: 247B427701 - Stimmungsbilder - Intuitiv und abs
 trakt malen\n(Abend-Malkurs der VHS Gomaringen im Atelier am Schloss - Es 
 besteht die Möglichkeit den Kurs am nächsten Tag im\nAtelier am Schloss 
 fortzusetzen. (Samstag  30.11.2024)\n\nWir verstehen die Farbe als Materi
 e\, verdichten und lösen sie auf\, geben der Bildentstehung Richtung\, Fl
 uss und Bewegung\,\nverlassen uns auf den Zufall und unsere intuitive Krea
 tivität. Ein Experiment voller Abenteuerlust und Überraschungen.\n\nNach
  einem kurzen Überblick über vorhandene Materialien und Techniken\, begi
 nnen wir den Kurs mit dem Anmischen unserer Farben. (Pigmente/Acryl)\nWir 
 lernen kreativitätsfördernde Übungen kennen und machen Erfahrungen mit 
 eigenen kreativen Prozessen.\n\nKeine Vorkenntnisse erforderlich.\n\nKlein
 e Gruppe mit individueller Beratung.\nAcrylfarben werden nach Bildgröße 
 im Kurs abgerechnet. (25\,00 €/qm)\nEine Materialliste erhalten Sie nach
  bestätigter Anmeldung von der VHS Gomaringen.\nKursleitung: Henriette St
 riegler/VHS Gomaringen\n\nKurszeiten:\nFreitag:      17:00 Uhr - 21:0
 0 Uhr (VHS Reutlingen/Gomaringen)
ATTACH;FMTTYPE=image/jpeg:https://steinlachkultur.com/wp-content/uploads/2
 024/09/Lach_E.jpg
CATEGORIES:Kurse/Workshops
LOCATION:Atelier am Schloss\, Lindenstraße 44\, Gomaringen\, 72810\, Deuts
 chland
X-APPLE-STRUCTURED-LOCATION;VALUE=URI;X-ADDRESS=Lindenstraße 44\, Gomaring
 en\, 72810\, Deutschland;X-APPLE-RADIUS=100;X-TITLE=Atelier am Schloss:geo
 :0,0
END:VEVENT
BEGIN:VTIMEZONE
TZID:Europe/Zurich
X-LIC-LOCATION:Europe/Zurich
BEGIN:STANDARD
DTSTART:20241027T020000
TZOFFSETFROM:+0200
TZOFFSETTO:+0100
TZNAME:CET
END:STANDARD
END:VTIMEZONE
END:VCALENDAR