BEGIN:VCALENDAR
VERSION:2.0
PRODID:-//wp-events-plugin.com//7.2.3.1//EN
TZID:Europe/Zurich
X-WR-TIMEZONE:Europe/Zurich
BEGIN:VEVENT
UID:7334@steinlachkultur.com
DTSTART;TZID=Europe/Zurich:20231017T190000
DTEND;TZID=Europe/Zurich:20231017T210000
DTSTAMP:20230830T144559Z
URL:https://steinlachkultur.com/events/mein-koerper-meine-entscheidung/
SUMMARY:Mein Körper\, meine Entscheidung!
DESCRIPTION:Social Media ist für die meisten Mädchen und junge Frauen fes
 t in ihrem Alltag verankert. Die Nutzung von Tik Tok\, Snapchat\, Instagra
 m und Co. soll Spaß machen und Vernetzung ermöglichen. Jedoch bringt das
  Surfen im Netz neben Vielfalt\, Humor und Unbefangenheit auch Unbehagen u
 nd Grenzüberschreitungen mit sich. Die Vermittlung von Körper- und Rolle
 nbildern auf Social Media führen zu Verunsicherungen und den Wunsch den e
 igenen Körper zu verändern.\n\nKooperation: TIMA e. V.\, Naturana\, VHS 
 Gomaraingen\n\n237A130002\n\nReferentinnen:  TIMA e. V. Tübingen\, Mona 
 Feil\, Lara Gebhardt-Brodbeck\, Regine Kottmann
CATEGORIES:Atelier am Schloss
LOCATION:Naturana-Hochhaus\, Hinterweiler Straße 3\, Gomaringen\, 72810\, 
 Deutschland
X-APPLE-STRUCTURED-LOCATION;VALUE=URI;X-ADDRESS=Hinterweiler Straße 3\, Go
 maringen\, 72810\, Deutschland;X-APPLE-RADIUS=100;X-TITLE=Naturana-Hochhau
 s:geo:0,0
END:VEVENT
BEGIN:VTIMEZONE
TZID:Europe/Zurich
X-LIC-LOCATION:Europe/Zurich
BEGIN:DAYLIGHT
DTSTART:20230326T030000
TZOFFSETFROM:+0100
TZOFFSETTO:+0200
TZNAME:CEST
END:DAYLIGHT
END:VTIMEZONE
END:VCALENDAR