BEGIN:VCALENDAR
VERSION:2.0
PRODID:-//wp-events-plugin.com//7.2.3.1//EN
TZID:Europe/Zurich
X-WR-TIMEZONE:Europe/Zurich
BEGIN:VEVENT
UID:142@steinlachkultur.com
DTSTART;TZID=Europe/Zurich:20210606T140000
DTEND;TZID=Europe/Zurich:20210606T170000
DTSTAMP:20210601T134045Z
URL:https://steinlachkultur.com/events/museum-rechenmacherhaus-wagner/
SUMMARY:Museum Rechenmacherhaus Wagner
DESCRIPTION:Mössingen war eine Hochburg der Rechenmacher\, die auch „Gab
 elfürsten“ genannt wurden. Im 1623 erbauten Gebäude der Waibachstraße
  15 richtete Bernhard Wagner Ende des 19. Jahrhunderts seine Rechenmacherw
 erkstatt ein. Sein Sohn Wilhelm übernahm Haus und Werkstatt und betrieb d
 as Handwerk noch bis in die 1980er-Jahre. Das Museum zeigt noch die origin
 alen Wohnräume und die Werkstatt der Familie Wagner.\n\nÖffnungszeiten:\
 nDas Museum ist immer im Sommerhalbjahr geöffnet\; erster Öffnungstag is
 t traditionell im Mai am "Internationalen Museumstag". Von Juni bis Oktob
 er ist das Rechenmacherhaus jeweils an einem Sonntag im Monat von 14 Uhr
  bis 17 Uhr geöffnet.
CATEGORIES:Führungen
LOCATION:Rechenmacherhaus Wagner\, Waibachstraße 15\, Mössingen\, 72116\,
  Deutschland
X-APPLE-STRUCTURED-LOCATION;VALUE=URI;X-ADDRESS=Waibachstraße 15\, Mössin
 gen\, 72116\, Deutschland;X-APPLE-RADIUS=100;X-TITLE=Rechenmacherhaus Wagn
 er:geo:0,0
END:VEVENT
BEGIN:VTIMEZONE
TZID:Europe/Zurich
X-LIC-LOCATION:Europe/Zurich
BEGIN:DAYLIGHT
DTSTART:20210328T030000
TZOFFSETFROM:+0100
TZOFFSETTO:+0200
TZNAME:CEST
END:DAYLIGHT
END:VTIMEZONE
END:VCALENDAR