BEGIN:VCALENDAR
VERSION:2.0
PRODID:-//wp-events-plugin.com//7.2.3.1//EN
TZID:Europe/Zurich
X-WR-TIMEZONE:Europe/Zurich
BEGIN:VEVENT
UID:7335@steinlachkultur.com
DTSTART;TZID=Europe/Zurich:20231024T200000
DTEND;TZID=Europe/Zurich:20231024T211500
DTSTAMP:20230830T145319Z
URL:https://steinlachkultur.com/events/philosophische-abendstunde-im-schlo
 ss-diskussionsrunde-fuer-alle/
SUMMARY:Philosophische Abendstunde im Schloss – Diskussionsrunde für All
 e
DESCRIPTION:Die antike Stoa\, Epikur und die Spuren ihrer Philosophie bis h
 eute. Die Referentin gibt Impulse zum Thema. Diese werden dann im gemeinsa
 men Gespräch vor dem Hintergrund der persönlichen Erfahrungen der Kurste
 ilnehmenden diskutiert. Kooperation mit der Bibliothek Gomaringen.\n\n237A
 421001\n\nReferentin: Ulrike Dahmen
ATTACH;FMTTYPE=image/jpeg:https://steinlachkultur.com/wp-content/uploads/2
 023/08/Antike-philos.jpg
CATEGORIES:Vorträge/Lesungen
LOCATION:Bürgersaal Schloß Gomaringen\, Schlosshof 1\, Gomaringen\, 72810
 \, Deutschland
X-APPLE-STRUCTURED-LOCATION;VALUE=URI;X-ADDRESS=Schlosshof 1\, Gomaringen\,
  72810\, Deutschland;X-APPLE-RADIUS=100;X-TITLE=Bürgersaal Schloß Gomari
 ngen:geo:0,0
END:VEVENT
BEGIN:VTIMEZONE
TZID:Europe/Zurich
X-LIC-LOCATION:Europe/Zurich
BEGIN:DAYLIGHT
DTSTART:20230326T030000
TZOFFSETFROM:+0100
TZOFFSETTO:+0200
TZNAME:CEST
END:DAYLIGHT
END:VTIMEZONE
END:VCALENDAR