BEGIN:VCALENDAR
VERSION:2.0
PRODID:-//wp-events-plugin.com//7.2.3.1//EN
TZID:Europe/Zurich
X-WR-TIMEZONE:Europe/Zurich
BEGIN:VEVENT
UID:1752@steinlachkultur.com
DTSTART;TZID=Europe/Zurich:20220924T070000
DTEND;TZID=Europe/Zurich:20220924T190000
DTSTAMP:20220817T131811Z
URL:https://steinlachkultur.com/events/piet-mondrian-evolution-fahrt-zur-a
 usstellung-nach-basel/
SUMMARY:Piet Mondrian - Evolution Fahrt zur Ausstellung nach Basel
DESCRIPTION:Anlässlich des 150. Geburtstags des Künstlers widmet die Fond
 ation Beyeler dem niederländischen Maler Piet Mondrian eine umfassende Au
 sstellung. Als einer der bedeutendsten Künstler der Avantgarde-Bewegung h
 at er die Entwicklung der Malerei von der Figuration zur Abstraktion maßg
 ebend geprägt. Der Fokus dieser Ausstellung liegt auf Werken\, welche Mon
 drians künstlerische Entwicklung bis in die zwanziger Jahre und die stili
 stische Entstehung seines Spätwerks beleuchten. In einzelnen Kapiteln wer
 den Motive wie Windmühlen\, Dünen und Meer\, sich im Wasser spiegelnde B
 auernhöfe und Pflanzen in verschiedenen Abstraktionsstufen behandelt. Nac
 hmittags ist der Besuch der Basler Innenstadt oder des Vitra Design-Museum
 s möglich. Organisation der Fahrt in Kooperation mit der Künstlergruppe 
 Kreatives Gomaringen.\n\n 
ATTACH;FMTTYPE=image/jpeg:https://steinlachkultur.com/wp-content/uploads/2
 022/08/FB_mondrian_tableau-no-I_inv-94-3-klein.jpg
CATEGORIES:Ausstellungen/Museen
LOCATION:ZOB Gomaringen\, #\, Basel\, Deutschland
X-APPLE-STRUCTURED-LOCATION;VALUE=URI;X-ADDRESS=#\, Basel\, Deutschland;X-A
 PPLE-RADIUS=100;X-TITLE=ZOB Gomaringen:geo:0,0
END:VEVENT
BEGIN:VTIMEZONE
TZID:Europe/Zurich
X-LIC-LOCATION:Europe/Zurich
BEGIN:DAYLIGHT
DTSTART:20220327T030000
TZOFFSETFROM:+0100
TZOFFSETTO:+0200
TZNAME:CEST
END:DAYLIGHT
END:VTIMEZONE
END:VCALENDAR