BEGIN:VCALENDAR
VERSION:2.0
PRODID:-//wp-events-plugin.com//7.2.3.1//EN
TZID:Europe/Zurich
X-WR-TIMEZONE:Europe/Zurich
BEGIN:VEVENT
UID:8353@steinlachkultur.com
DTSTART;TZID=Europe/Zurich:20250215T200000
DTEND;TZID=Europe/Zurich:20250215T220000
DTSTAMP:20250203T182335Z
URL:https://steinlachkultur.com/events/sa-15-februar-paris-hot-five-im-caf
 e-eisvogel-in-nehren/
SUMMARY:Sa. 15. Februar - Paris Hot Five im Cafe Eisvogel in Nehren
DESCRIPTION:Paris Hot Five\nMit Paris Hot Five begeben wir uns auf eine Zei
 treise ins pulsierende Nachtleben der Bars und Cabarets am Boulevard de Cl
 ichy.\nMit einer unverwechselbaren musikalischen Melange versetzt das rein
  akustische Ensemble sein Publikum in die Epoche überschäumender Lebensl
 ust als Paris die Hauptstadt des europäischen Jazz war.\nParis Hot Five s
 pielen Swing\, Tango\, Chanson und Musette im Stile des weltberühmten Qui
 ntette du Hot Club de France rund um die Swinglegende Django Reinhardt.\nC
 hristian Ther am Akkordeon\, Joachim Norz an der Gitarre\, Volker Kaulartz
  als Klarinettist\, Julian Jochen am Bass und der Sänger und Gitarrist Al
 ex Wiemer bringen jeden Laden zum Swingen.\n\nAuf Youtube gibt’s eine Ko
 stprobe.\n\nBeginn 20:00 Uhr – Eintritt EUR 18\,-
ATTACH;FMTTYPE=image/jpeg:https://steinlachkultur.com/wp-content/uploads/2
 025/02/Paris-Hot-Five-15.02-1024x1024-1.png
CATEGORIES:Musik
LOCATION:Vintage-Café Eisvogel\, Reutlinger Str. 29\, Nehren\, 72147\, Deu
 tschland
X-APPLE-STRUCTURED-LOCATION;VALUE=URI;X-ADDRESS=Reutlinger Str. 29\, Nehren
 \, 72147\, Deutschland;X-APPLE-RADIUS=100;X-TITLE=Vintage-Café Eisvogel:g
 eo:0,0
END:VEVENT
BEGIN:VTIMEZONE
TZID:Europe/Zurich
X-LIC-LOCATION:Europe/Zurich
BEGIN:STANDARD
DTSTART:20241027T020000
TZOFFSETFROM:+0200
TZOFFSETTO:+0100
TZNAME:CET
END:STANDARD
END:VTIMEZONE
END:VCALENDAR