BEGIN:VCALENDAR
VERSION:2.0
PRODID:-//wp-events-plugin.com//7.2.3.1//EN
TZID:Europe/Zurich
X-WR-TIMEZONE:Europe/Zurich
BEGIN:VEVENT
UID:897@steinlachkultur.com
DTSTART;TZID=Europe/Zurich:20220310T182000
DTEND;TZID=Europe/Zurich:20220310T192000
DTSTAMP:20220127T152604Z
URL:https://steinlachkultur.com/events/salsa-fit-choreografien-auf-fetzige
 -musik-mit-ignacio-camblor-2022-03-10/
SUMMARY:Salsa Fit - Choreografien auf fetzige Musik mit Ignacio Camblor
DESCRIPTION:Flotte Choreografien zu flotter Musik mit dem kubansichen Tanzl
 ehrer Ignacio Gamblor.\nFür diesen Kurs brauchen Sie keine Tanzpartner*in
  (m.w.d.)\n\n&nbsp\;
ATTACH;FMTTYPE=image/jpeg:https://steinlachkultur.com/wp-content/uploads/2
 022/01/Salsa-hand.jpg
CATEGORIES:Tanz
LOCATION:TanzEtage Gomaringen\, Tübinger Str. 58\, Gomaringen\, 72810\, De
 utschland
X-APPLE-STRUCTURED-LOCATION;VALUE=URI;X-ADDRESS=Tübinger Str. 58\, Gomarin
 gen\, 72810\, Deutschland;X-APPLE-RADIUS=100;X-TITLE=TanzEtage Gomaringen:
 geo:0,0
END:VEVENT
BEGIN:VTIMEZONE
TZID:Europe/Zurich
X-LIC-LOCATION:Europe/Zurich
BEGIN:STANDARD
DTSTART:20211031T020000
TZOFFSETFROM:+0200
TZOFFSETTO:+0100
TZNAME:CET
END:STANDARD
END:VTIMEZONE
END:VCALENDAR