BEGIN:VCALENDAR
VERSION:2.0
PRODID:-//wp-events-plugin.com//7.2.3.1//EN
TZID:Europe/Zurich
X-WR-TIMEZONE:Europe/Zurich
BEGIN:VEVENT
UID:7412@steinlachkultur.com
DTSTART;TZID=Europe/Zurich:20241222T140000
DTEND;TZID=Europe/Zurich:20241222T180000
DTSTAMP:20240116T100015Z
URL:https://steinlachkultur.com/events/schaetze-aus-kindertagen-4-2024-12-
 22/
SUMMARY:Schätze aus Kindertagen
DESCRIPTION:Ein eindrucksvolles Zeitzeugnis und eine zauberhafte Zeitreise 
 zurück in die Kindheit – das ist die umfangreiche Sammlung an Puppenstu
 ben\, Puppenküchen\, Kaufläden und vielem mehr von Roswitha Zeeb.
ATTACH;FMTTYPE=image/jpeg:https://steinlachkultur.com/wp-content/uploads/2
 024/01/DSC00032.jpg
LOCATION:Bürgerhaus Nehren\, Altbau\, 1. OG\, Bohlstraße 4\, Nehren\, 721
 47\, Deutschland
X-APPLE-STRUCTURED-LOCATION;VALUE=URI;X-ADDRESS=Bohlstraße 4\, Nehren\, 72
 147\, Deutschland;X-APPLE-RADIUS=100;X-TITLE=Bürgerhaus Nehren\, Altbau\,
  1. OG:geo:0,0
END:VEVENT
BEGIN:VTIMEZONE
TZID:Europe/Zurich
X-LIC-LOCATION:Europe/Zurich
BEGIN:STANDARD
DTSTART:20241027T020000
TZOFFSETFROM:+0200
TZOFFSETTO:+0100
TZNAME:CET
END:STANDARD
END:VTIMEZONE
END:VCALENDAR