BEGIN:VCALENDAR
VERSION:2.0
PRODID:-//wp-events-plugin.com//7.2.3.1//EN
TZID:Europe/Zurich
X-WR-TIMEZONE:Europe/Zurich
BEGIN:VEVENT
UID:7937@steinlachkultur.com
DTSTART;TZID=Europe/Zurich:20240901T140000
DTEND;TZID=Europe/Zurich:20240901T170000
DTSTAMP:20240320T170939Z
URL:https://steinlachkultur.com/events/schmiede-und-schleifvorfuehrung-in-
 historischer-messerschmiede-2024-09-01/
SUMMARY:Schmiede- und Schleifvorführung in historischer Messerschmiede
DESCRIPTION:In der Historischen Messerschmiede ist die Zeit stehen gebliebe
 n. Es sieht noch aus wie vor 100 Jahren. Um 1900 produzierte hier der Mess
 erschmied Johannes Nill\, genannt der „Lustig“\, seine Messer. Beim Me
 sserschleifen musste noch die ganze Familie mit Muskelkraft am Schleifmech
 anismus mithelfen. 1910 wurde dann ein erster Elektromotor angeschafft. So
 hn und Nachfolger Robert Nill richtete 1920 eine neue Schleifwerkstatt ein
 . Die Räume sind heute noch original erhalten.\n\nAn den Öffnungstagen w
 ird an der alten Esse geschmiedet und in der Schleifwerkstatt werden Messe
 r geschliffen.
ATTACH;FMTTYPE=image/jpeg:https://steinlachkultur.com/wp-content/uploads/2
 024/03/Handwerker-Messerschmiede-2-scaled.jpg
CATEGORIES:Ausstellungen/Museen
LOCATION:Historische Messerschmiede\, Hirschgasse 13\, Mössingen\, 72116\,
  Deutschland
X-APPLE-STRUCTURED-LOCATION;VALUE=URI;X-ADDRESS=Hirschgasse 13\, Mössingen
 \, 72116\, Deutschland;X-APPLE-RADIUS=100;X-TITLE=Historische Messerschmie
 de:geo:0,0
END:VEVENT
BEGIN:VTIMEZONE
TZID:Europe/Zurich
X-LIC-LOCATION:Europe/Zurich
BEGIN:DAYLIGHT
DTSTART:20240331T030000
TZOFFSETFROM:+0100
TZOFFSETTO:+0200
TZNAME:CEST
END:DAYLIGHT
END:VTIMEZONE
END:VCALENDAR