BEGIN:VCALENDAR
VERSION:2.0
PRODID:-//wp-events-plugin.com//7.2.3.1//EN
TZID:Europe/Zurich
X-WR-TIMEZONE:Europe/Zurich
BEGIN:VEVENT
UID:1205@steinlachkultur.com
DTSTART;TZID=Europe/Zurich:20220904T140000
DTEND;TZID=Europe/Zurich:20220904T170000
DTSTAMP:20220426T153145Z
URL:https://steinlachkultur.com/events/schmiedevorfuehrung-in-der-historis
 chen-messerschmiede-2022-09-04/
SUMMARY:Schmiedevorführung in der Historischen Messerschmiede
DESCRIPTION:Immer am 1. Sonntag von Mai bis Oktober ist das Museum von 14 b
 is 17 Uhr für Besucher geöffnet.\n\nDas Museum zeigt die alte Messerschm
 iede\, in der Johannes Nill vor 140 Jahren mit der Messerherstellung began
 n. Sein Sohn Robert übernahm den Betrieb und richtete 1920 eine weitere W
 erkstatt mit Schleifmechanismus ein. In der Schmiedewerkstatt mit altem\, 
 ledernen Blasebalg wird an Öffnungstagen an der Esse geschmiedet und in d
 er Schleifwerkstatt wird die Kunst des Messerschleifens gezeigt.
ATTACH;FMTTYPE=image/jpeg:https://steinlachkultur.com/wp-content/uploads/2
 022/04/Messerschmiede-Foto-Franke-8.jpg
CATEGORIES:Ausstellungen/Museen
LOCATION:Historische Messerschmiede\, Hirschgasse 13\, Mössingen\, 72116\,
  Deutschland
X-APPLE-STRUCTURED-LOCATION;VALUE=URI;X-ADDRESS=Hirschgasse 13\, Mössingen
 \, 72116\, Deutschland;X-APPLE-RADIUS=100;X-TITLE=Historische Messerschmie
 de:geo:0,0
END:VEVENT
BEGIN:VTIMEZONE
TZID:Europe/Zurich
X-LIC-LOCATION:Europe/Zurich
BEGIN:DAYLIGHT
DTSTART:20220327T030000
TZOFFSETFROM:+0100
TZOFFSETTO:+0200
TZNAME:CEST
END:DAYLIGHT
END:VTIMEZONE
END:VCALENDAR