BEGIN:VCALENDAR
VERSION:2.0
PRODID:-//wp-events-plugin.com//7.2.3.1//EN
TZID:Europe/Zurich
X-WR-TIMEZONE:Europe/Zurich
BEGIN:VEVENT
UID:1207@steinlachkultur.com
DTSTART;TZID=Europe/Zurich:20220515T140000
DTEND;TZID=Europe/Zurich:20220515T170000
DTSTAMP:20220426T153659Z
URL:https://steinlachkultur.com/events/schmiedevorfuehrung-in-der-historis
 chen-messerschmiede-internationaler-museumstag/
SUMMARY:Schmiedevorführung in der Historischen Messerschmiede - Internatio
 naler Museumstag
DESCRIPTION:Anläßlich des Internationalen Museumstags geöffnet.\n\nDas M
 useum zeigt die alte Messerschmiede\, in der Johannes Nill vor 140 Jahren 
 mit der Messerherstellung begann. Sein Sohn Robert übernahm den Betrieb u
 nd richtete 1920 eine weitere Werkstatt mit Schleifmechanismus ein. In der
  Schmiedewerkstatt mit altem\, ledernen Blasebalg wird an Öffnungstagen a
 n der Esse geschmiedet und in der Schleifwerkstatt wird die Kunst des Mess
 erschleifens gezeigt.
ATTACH;FMTTYPE=image/jpeg:https://steinlachkultur.com/wp-content/uploads/2
 022/04/323.4-Bild-Nr.-0218F5-Schleifmaschinen.jpg
LOCATION:Historische Messerschmiede\, Hirschgasse 13\, Mössingen\, 72116\,
  Deutschland
X-APPLE-STRUCTURED-LOCATION;VALUE=URI;X-ADDRESS=Hirschgasse 13\, Mössingen
 \, 72116\, Deutschland;X-APPLE-RADIUS=100;X-TITLE=Historische Messerschmie
 de:geo:0,0
END:VEVENT
BEGIN:VTIMEZONE
TZID:Europe/Zurich
X-LIC-LOCATION:Europe/Zurich
BEGIN:DAYLIGHT
DTSTART:20220327T030000
TZOFFSETFROM:+0100
TZOFFSETTO:+0200
TZNAME:CEST
END:DAYLIGHT
END:VTIMEZONE
END:VCALENDAR