BEGIN:VCALENDAR
VERSION:2.0
PRODID:-//wp-events-plugin.com//7.2.3.1//EN
TZID:Europe/Zurich
X-WR-TIMEZONE:Europe/Zurich
BEGIN:VEVENT
UID:6863@steinlachkultur.com
DTSTART;TZID=Europe/Zurich:20230512T100000
DTEND;TZID=Europe/Zurich:20230512T120000
DTSTAMP:20230508T143959Z
URL:https://steinlachkultur.com/events/sct-informationsveranstaltung-des-s
 enioren-computer-treff-nehren-2023-05-12/
SUMMARY:SCT - Smartphone- und Tablet-Treff
DESCRIPTION:Unser regelmäßiges Treffen zum Erfahrungsaustausch rund um Sm
 artphone und Tablet. Wir helfen uns gegenseitig bei Problemen mit unseren 
 "Lieblingen" - seien es Einstellungen des Betriebssystems oder Fragen zu b
 estimmten Apps. Neue interessante App gefunden? Hier ist der richtige Ort\
 , den Mitstreitern davon zu berichten.\n\nDiesmal voraussichtlich mit Heid
 i Bronner.
ATTACH;FMTTYPE=image/jpeg:https://steinlachkultur.com/wp-content/uploads/2
 023/01/SCTlang-3.png
CATEGORIES:Vorträge/Lesungen
LOCATION:Vereinsraum im 2. OG des Bürgerhaus Nehren\, Bohlstraße 2\, Nehr
 en\, 72147\, Deutschland
X-APPLE-STRUCTURED-LOCATION;VALUE=URI;X-ADDRESS=Bohlstraße 2\, Nehren\, 72
 147\, Deutschland;X-APPLE-RADIUS=100;X-TITLE=Vereinsraum im 2. OG des Bür
 gerhaus Nehren:geo:0,0
END:VEVENT
BEGIN:VTIMEZONE
TZID:Europe/Zurich
X-LIC-LOCATION:Europe/Zurich
BEGIN:DAYLIGHT
DTSTART:20230326T030000
TZOFFSETFROM:+0100
TZOFFSETTO:+0200
TZNAME:CEST
END:DAYLIGHT
END:VTIMEZONE
END:VCALENDAR