BEGIN:VCALENDAR
VERSION:2.0
PRODID:-//wp-events-plugin.com//7.2.3.1//EN
TZID:Europe/Zurich
X-WR-TIMEZONE:Europe/Zurich
BEGIN:VEVENT
UID:8115@steinlachkultur.com
DTSTART;TZID=Europe/Zurich:20241030T160000
DTEND;TZID=Europe/Zurich:20241030T180000
DTSTAMP:20241021T144252Z
URL:https://steinlachkultur.com/events/sct-linux-als-alternative-zu-window
 s-teil-2-2/
SUMMARY:SCT - LINUX als Alternative zu Windows\, Teil 1
DESCRIPTION:Mit dieser kleinen Veranstaltungsreihe wollen wir eine Alternat
 ive zur eingefahrenen Windows-Welt vorstellen. Dem Einzelnen kann es Koste
 n sparen\, der Umwelt vermeidbaren Elektroschrott. Und ein klein wenig Abw
 echslung hält geistig fit.\n\n 	Gründe für einen Wechsel\n 	Demo eines 
 vom USB-Stick gestarteten LINUX-Live-Systems\n 	Unterschiedliche LINUX-Dis
 tributionen\n 	Hardware-Voraussetzungen\n\nMit Ralf Martenstein und Thomas
  Gelsdorf.\n\nIn den weiteren Teilen (13.11./20.11.) zeigen wir\, wie einf
 ach Installation und Wartung funktionieren und für Umstiegswillige bieten
  wir natürlich auch Hilfe an.\n\nUnsere Veranstaltungen werden ausschlie
 ßlich von Ehrenamtlichen geleitet. Es ist leider nicht immer vermeidbar\,
  dass aus unvorhersehbaren Gründen eine Veranstaltung - auch kurzfristig 
 - entfallen muss. Bitte informieren Sie sich daher hier tagesaktuell über
  mögliche Änderungen.\nSie wollen uns kennenlernen? -&gt\; Gäste sind j
 ederzeit herzlich willkommen.
ATTACH;FMTTYPE=image/jpeg:https://steinlachkultur.com/wp-content/uploads/2
 023/06/SCTlang.png
CATEGORIES:Vorträge/Lesungen
LOCATION:Vereinsraum im 2. OG des Bürgerhaus Nehren\, Bohlstraße 2\, Nehr
 en\, 72147\, Deutschland
X-APPLE-STRUCTURED-LOCATION;VALUE=URI;X-ADDRESS=Bohlstraße 2\, Nehren\, 72
 147\, Deutschland;X-APPLE-RADIUS=100;X-TITLE=Vereinsraum im 2. OG des Bür
 gerhaus Nehren:geo:0,0
END:VEVENT
BEGIN:VTIMEZONE
TZID:Europe/Zurich
X-LIC-LOCATION:Europe/Zurich
BEGIN:STANDARD
DTSTART:20241027T020000
TZOFFSETFROM:+0200
TZOFFSETTO:+0100
TZNAME:CET
END:STANDARD
END:VTIMEZONE
END:VCALENDAR