BEGIN:VCALENDAR
VERSION:2.0
PRODID:-//wp-events-plugin.com//7.2.3.1//EN
TZID:Europe/Zurich
X-WR-TIMEZONE:Europe/Zurich
BEGIN:VEVENT
UID:8068@steinlachkultur.com
DTSTART;TZID=Europe/Zurich:20241206T100000
DTEND;TZID=Europe/Zurich:20241206T120000
DTSTAMP:20241115T092754Z
URL:https://steinlachkultur.com/events/sct-smartphone-tablet-treff-19/
SUMMARY:SCT - Smartphone- &amp\; Tablet-Treff
DESCRIPTION:Unser regelmäßiges Treffen zum Erfahrungsaustausch rund um Sm
 artphone und Tablet. Wir helfen uns gegenseitig bei Problemen mit unseren 
 "Lieblingen" - seien es Einstellungen des Betriebssystems oder Fragen zu b
 estimmten Apps. Neue interessante App gefunden? Hier ist der richtige Ort\
 , den Mitstreitern davon zu berichten.\n\nModeration: Heidi und Thomas Gel
 sdorf\n\nUnsere Veranstaltungen werden ausschließlich von Ehrenamtlichen 
 geleitet. Es ist leider nicht immer vermeidbar\, dass aus unvorhersehbaren
  Gründen eine Veranstaltung - auch kurzfristig - entfallen muss. Bitte in
 formieren Sie sich daher hier tagesaktuell über mögliche Änderungen.\nS
 ie wollen uns kennenlernen? -&gt\; Gäste sind jederzeit herzlich willkomm
 en.
ATTACH;FMTTYPE=image/jpeg:https://steinlachkultur.com/wp-content/uploads/2
 023/09/SCTlang-1.png
CATEGORIES:Vorträge/Lesungen
LOCATION:Vereinsraum im 2. OG des Bürgerhaus Nehren\, Bohlstraße 2\, Nehr
 en\, 72147\, Deutschland
X-APPLE-STRUCTURED-LOCATION;VALUE=URI;X-ADDRESS=Bohlstraße 2\, Nehren\, 72
 147\, Deutschland;X-APPLE-RADIUS=100;X-TITLE=Vereinsraum im 2. OG des Bür
 gerhaus Nehren:geo:0,0
END:VEVENT
BEGIN:VTIMEZONE
TZID:Europe/Zurich
X-LIC-LOCATION:Europe/Zurich
BEGIN:STANDARD
DTSTART:20241027T020000
TZOFFSETFROM:+0200
TZOFFSETTO:+0100
TZNAME:CET
END:STANDARD
END:VTIMEZONE
END:VCALENDAR