BEGIN:VCALENDAR
VERSION:2.0
PRODID:-//wp-events-plugin.com//7.2.3.1//EN
TZID:Europe/Zurich
X-WR-TIMEZONE:Europe/Zurich
BEGIN:VEVENT
UID:8116@steinlachkultur.com
DTSTART;TZID=Europe/Zurich:20241129T100000
DTEND;TZID=Europe/Zurich:20241129T120000
DTSTAMP:20241115T091204Z
URL:https://steinlachkultur.com/events/sct-ueberblick-zur-digitalisierung-
 im-gesundheitswesen-und-der-oeffentlichen-verwaltung/
SUMMARY:SCT - Cloud - Grundlegende Informationen
DESCRIPTION:Clouds bieten eine Speichermöglichkeit beliebiger eigener Date
 n in Groß-Rechenzentren im weltweiten Internet.\n\nAuch die\, die hier nu
 n sagen „brauche ich nicht“ &gt\;&gt\;&gt\; Ihr habt sie schon in Betr
 ieb\, vermutlich dann aber ohne es zu wissen!\n\nDaher wollen wir uns in d
 ieser Veranstaltung gemeinsam darüber unterhalten welche Vor- und Nachtei
 le die Verwendung bringt. Dass die Cloud-Technik funktioniert\, steht nich
 t mehr in Frage. Wir konzentrieren uns daher auf die Anwendungsmöglichkei
 ten im Alltag in Verbindung mit den eigenen Geräten.\n\nWir betrachten:\n
 \n 	Wo sind meine Daten im Gerät\n 	Wie groß ist mein Speicherplatz\n 	W
 elche Anwendungen brauchen viel Speicherplatz\n 	Lokale Erweiterungsmögli
 chkeit\n 	Datensicherung\n 	Cloud als Speichererweiterung\n 	Cloud zur Dat
 ensicherung\n 	Cloud zur Datensynchronisierung mehrerer eigener Geräte\n 
 	Cloud zum Datenaustausch mit Dritten\n 	Wie integriert sich die Cloud in 
 mein Gerät\n 	Daten verursachen Aufwand\n 	Datenhygiene (Zeitaufwand)\n 	
 Kosten (Cloud &lt\;-&gt\; Eigene Speicher)\n 	Datensicherheit\n 	\n 	\n\nM
 it Thomas Gelsdorf\n\nUnsere Veranstaltungen werden ausschließlich von Eh
 renamtlichen geleitet. Es ist leider nicht immer vermeidbar\, dass aus unv
 orhersehbaren Gründen eine Veranstaltung - auch kurzfristig - entfallen m
 uss. Bitte informieren Sie sich daher hier tagesaktuell über mögliche Ä
 nderungen.\nSie wollen uns kennenlernen? -&gt\; Gäste sind jederzeit herz
 lich willkommen.
ATTACH;FMTTYPE=image/jpeg:https://steinlachkultur.com/wp-content/uploads/2
 023/06/SCTlang.png
CATEGORIES:Vorträge/Lesungen
LOCATION:Vereinsraum im 2. OG des Bürgerhaus Nehren\, Bohlstraße 2\, Nehr
 en\, 72147\, Deutschland
X-APPLE-STRUCTURED-LOCATION;VALUE=URI;X-ADDRESS=Bohlstraße 2\, Nehren\, 72
 147\, Deutschland;X-APPLE-RADIUS=100;X-TITLE=Vereinsraum im 2. OG des Bür
 gerhaus Nehren:geo:0,0
END:VEVENT
BEGIN:VTIMEZONE
TZID:Europe/Zurich
X-LIC-LOCATION:Europe/Zurich
BEGIN:STANDARD
DTSTART:20241027T020000
TZOFFSETFROM:+0200
TZOFFSETTO:+0100
TZNAME:CET
END:STANDARD
END:VTIMEZONE
END:VCALENDAR