BEGIN:VCALENDAR
VERSION:2.0
PRODID:-//wp-events-plugin.com//7.2.3.1//EN
TZID:Europe/Zurich
X-WR-TIMEZONE:Europe/Zurich
BEGIN:VEVENT
UID:1828@steinlachkultur.com
DTSTART;TZID=Europe/Zurich:20220915T133000
DTEND;TZID=Europe/Zurich:20220915T180000
DTSTAMP:20220906T144317Z
URL:https://steinlachkultur.com/events/seniorenwanderung-altes-lager-in-mu
 ensingen/
SUMMARY:Seniorenwanderung – „Altes Lager in Münsingen“
DESCRIPTION:Wir fahren in Fahrgemeinschaften nach Münsingen-Auingen und pa
 rken am Parkplatz Hörnle.\n\nVon dort wandern wir ca. 4 km zum Aussichtsp
 unkt Gänsewag. Nach einer kurzen Pause geht es weiter ins alte Lager. Dor
 t besteht die Möglichkeit die Manufakturen und das Biosphärenzentrum zu 
 besichtigen.\n\nEs besteht auch die Möglichkeit Kaffee zu trinken. Danach
  wandern wir zurück zum Parkplatz Hörnle.\n\nInteressierte und Gäste si
 nd herzlich willkommen.\n\nAuf viele Mitwandernde freuen sich Klaus\, Hann
 e und Jörg
ATTACH;FMTTYPE=image/jpeg:https://steinlachkultur.com/wp-content/uploads/2
 022/09/Titel_WE_Bodman_2022.jpg
CATEGORIES:Führungen
LOCATION:Haldenplatz Lindenstraße\, Lindenstraße\, Gomaringen\, 72810\, D
 eutschland
X-APPLE-STRUCTURED-LOCATION;VALUE=URI;X-ADDRESS=Lindenstraße\, Gomaringen\
 , 72810\, Deutschland;X-APPLE-RADIUS=100;X-TITLE=Haldenplatz Lindenstraße
 :geo:0,0
END:VEVENT
BEGIN:VTIMEZONE
TZID:Europe/Zurich
X-LIC-LOCATION:Europe/Zurich
BEGIN:DAYLIGHT
DTSTART:20220327T030000
TZOFFSETFROM:+0100
TZOFFSETTO:+0200
TZNAME:CEST
END:DAYLIGHT
END:VTIMEZONE
END:VCALENDAR