BEGIN:VCALENDAR
VERSION:2.0
PRODID:-//wp-events-plugin.com//7.2.3.1//EN
TZID:Europe/Zurich
X-WR-TIMEZONE:Europe/Zurich
BEGIN:VEVENT
UID:1668@steinlachkultur.com
DTSTART;TZID=Europe/Zurich:20221103T180000
DTEND;TZID=Europe/Zurich:20221127T223000
DTSTAMP:20220720T131909Z
URL:https://steinlachkultur.com/events/showpalast-tuebingen/
SUMMARY:Showpalast Tübingen
DESCRIPTION:Wir freuen uns sehr\, Ihnen mit Showpalast Tübingen gleicherma
 ßen einen Ort der Einkehr wie der Feste bieten zu Können – eine Welt\
 , in der Lebens- und Gaumenfreude\, Körperkunst\, Humor\, Musik und eine 
 besondere Atmosphäre zu einer magischen Einheit verschmelzen. Dahinter s
 teht eine Konzeption\, die tatsächlich an die Tradition von „Brot &amp\
 ; Spiele“ erinnert und die auf den ersten Blick einfach erscheint. Doch 
 nimmt man sich die Zeit\, die zahlreichen Bestandteile bewusst wahrzunehme
 n\, aus denen ein vergnüglicher Abend im Ambiente des reichen Festzeltes 
 entsteht\, lässt sich erahnen\, wie viel Kreativität\, Professionalität
 \, Leidenschaft und Liebe zum Detail nötig sind\, bevor sich die künstle
 rischen Darbietungen\, das Essen\, Musik\, Kostüm\, Licht\, Service und 
 Ambiente zu einem gelungen Ganzen fügen.\n​\nWir versprechen Ihnen fest
 liche Stunden\nvoller Genuss und Spaß!\nViel Vergnügen dabei wünscht Ih
 nen das Showpalast Tübingen Team!
CATEGORIES:Theater/Kino
LOCATION:Festplatz Tübingen\, Europastraße\, Tübingen\, 72072\, Deutschl
 and
X-APPLE-STRUCTURED-LOCATION;VALUE=URI;X-ADDRESS=Europastraße\, Tübingen\,
  72072\, Deutschland;X-APPLE-RADIUS=100;X-TITLE=Festplatz Tübingen:geo:0,
 0
END:VEVENT
BEGIN:VTIMEZONE
TZID:Europe/Zurich
X-LIC-LOCATION:Europe/Zurich
BEGIN:STANDARD
DTSTART:20221030T020000
TZOFFSETFROM:+0200
TZOFFSETTO:+0100
TZNAME:CET
END:STANDARD
END:VTIMEZONE
END:VCALENDAR