BEGIN:VCALENDAR
VERSION:2.0
PRODID:-//wp-events-plugin.com//7.2.3.1//EN
TZID:Europe/Zurich
X-WR-TIMEZONE:Europe/Zurich
BEGIN:VEVENT
UID:1666@steinlachkultur.com
DTSTART;TZID=Europe/Zurich:20220728T204500
DTEND;TZID=Europe/Zurich:20220728T230000
DTSTAMP:20220714T091223Z
URL:https://steinlachkultur.com/events/sommerkino-im-schlosshof/
SUMMARY:Sommerkino im Schlosshof!
DESCRIPTION:Sommerzeit ist Open-Air-Kino-Zeit. Bibliothek  und VHS suchen 
 fürs Sommerkino einen Gute-Laune-Streifen für Sie aus. Lassen Sie sich 
 überraschen! Gute Unterhaltung\, nette Gespräche und etwas zum Knabbern 
 sind garantiert - schönes Wetter leider nicht - bei Regen fällt die Vera
 nstaltung aus.
CATEGORIES:Theater/Kino
LOCATION:Innerer Schlosshof\, Gomaringer\, Schlosshof 1\, Gomaringen\, 7281
 0\, Deutschland
X-APPLE-STRUCTURED-LOCATION;VALUE=URI;X-ADDRESS=Schlosshof 1\, Gomaringen\,
  72810\, Deutschland;X-APPLE-RADIUS=100;X-TITLE=Innerer Schlosshof\, Gomar
 inger:geo:0,0
END:VEVENT
BEGIN:VTIMEZONE
TZID:Europe/Zurich
X-LIC-LOCATION:Europe/Zurich
BEGIN:DAYLIGHT
DTSTART:20220327T030000
TZOFFSETFROM:+0100
TZOFFSETTO:+0200
TZNAME:CEST
END:DAYLIGHT
END:VTIMEZONE
END:VCALENDAR