BEGIN:VCALENDAR
VERSION:2.0
PRODID:-//wp-events-plugin.com//7.2.3.1//EN
TZID:Europe/Zurich
X-WR-TIMEZONE:Europe/Zurich
BEGIN:VEVENT
UID:616@steinlachkultur.com
DTSTART;TZID=Europe/Zurich:20211112T200000
DTEND;TZID=Europe/Zurich:20211112T220000
DTSTAMP:20211102T143230Z
URL:https://steinlachkultur.com/events/sueddeutsches-salonorchester-unter-
 der-leitung-von-dietrich-schoeller-manno/
SUMMARY:Süddeutsches Salonorchester unter der Leitung von Dietrich Schöll
 er-Manno
DESCRIPTION:Stars und Sternchen aus den alten Ufa-Filmen begegnen uns beim 
 Konzert des Süddeutschen Salonorchesters. Originale Tanz- und Unterhaltun
 gsmusik der 20er bis 40er Jahre frech und frei interpretiert\, so spielt s
 ich das Salonorchester seit nunmehr fast 30 Jahren in die Herzen der Zuhö
 rer.\nDieses Konzert wird im Programm Kultursommer 2021 durch die Beauftra
 gte der Bundesregierung für Kultur und Medien (BKM) mit Mitteln aus NEUST
 ART KULTUR gefördert.
ATTACH;FMTTYPE=image/jpeg:https://steinlachkultur.com/wp-content/uploads/2
 021/10/salonorchester4-scaled.jpg
CATEGORIES:Musik
LOCATION:Sport- und Kulturhalle Gomaringen\, Haydnstraße 22\, Gomaringen\,
  72810\, Deutschland
X-APPLE-STRUCTURED-LOCATION;VALUE=URI;X-ADDRESS=Haydnstraße 22\, Gomaringe
 n\, 72810\, Deutschland;X-APPLE-RADIUS=100;X-TITLE=Sport- und Kulturhalle 
 Gomaringen:geo:0,0
END:VEVENT
BEGIN:VTIMEZONE
TZID:Europe/Zurich
X-LIC-LOCATION:Europe/Zurich
BEGIN:STANDARD
DTSTART:20211031T020000
TZOFFSETFROM:+0200
TZOFFSETTO:+0100
TZNAME:CET
END:STANDARD
END:VTIMEZONE
END:VCALENDAR