BEGIN:VCALENDAR
VERSION:2.0
PRODID:-//wp-events-plugin.com//7.2.3.1//EN
TZID:Europe/Zurich
X-WR-TIMEZONE:Europe/Zurich
BEGIN:VEVENT
UID:890@steinlachkultur.com
DTSTART;TZID=Europe/Zurich:20220319T090000
DTEND;TZID=Europe/Zurich:20220319T130000
DTSTAMP:20220127T143448Z
URL:https://steinlachkultur.com/events/susanne-dohm-sauter-die-verwandlung
 -der-dinge-2-2022-03-19/
SUMMARY:Susanne Dohm-Sauter "Die Verwandlung der Dinge"
DESCRIPTION:Die Verwandlung der Dinge – \n\nKunstausstellung mit Arbeiten
  von Susanne Dohm-Sauter\n\nDie Künstlerin Susanne Dohm-Sauter ist studie
 rte Textil-Designerin und seit 2007 als freischaffende Künstlerin tätig.
  Sie stellt unter dem Titel "Die Verwandlung der Dinge" verschiedene Werke
  in unterschiedlichen Techniken aus. Ihre Kunst setzt sich ästhetisch mit
  dem Thema Plastik auseinander.\n\nVom 01.02. bis zum 19.03.2022 zeigt das
  FORUM Bodelshausen unter dem Titel "Die Verwandlung der Dinge" Arbeiten v
 on Susanne Dohm-Sauter aus Reutlingen. Die Künstlerin liebt die Verwandlu
 ng der Dinge. Die Idee\, aus dem Alltäglichen das Beste zu machen\, Dinge
  weiter zu entwickeln und neu zu kombinieren\, zieht sich als Leitfaden du
 rch das künstlerische Schaffen von Susanne Dohm-Sauter.\n\nSie beschäfti
 gt sich mit dem Konsumverhalten unserer Gesellschaft\, insbesondere mit de
 m Thema Plastik. Im negativen Image dieses Materials liegt für sie der be
 sondere Reiz. Ästhetisch setzt sie sich mit dem Kunststoff auseinander\, 
 arbeitet mit verschieden Techniken und hebt dabei das Schöne im vermeintl
 ich Unschönen hervor.\n\nFür ihre Arbeit "Endlos im Quadrat"\, die in de
 r Ausstellung zu sehen ist\, erhielt sie ein Stipendium vom Ministerium f
 ür Wissenschaft\, Forschung und Kunst Baden-Württemberg.\n\nDie Ausstell
 ung findet ohne gesonderte Vernissage statt.\n\nÖffnungszeiten der Ausste
 llung:\n\nDi 10-13 Uhr u. 15-18 Uhr\, Mi 15-19 Uhr\, Do 15-18 Uhr\, Fr 15-
 18 Uhr\, Sa 9-13 Uhr.\n\nDer Zugang zur Ausstellung ist mit 2G+ und einer 
 FFP2-Maske möglich.\n\n&nbsp\;\n\n&nbsp\;
ATTACH;FMTTYPE=image/jpeg:https://steinlachkultur.com/wp-content/uploads/2
 022/01/Einladungskarte-Vorderseite-Dohm-Sauter.jpg
CATEGORIES:Ausstellungen/Museen
LOCATION:Forum Bodeshausen\, Bachgasse 2\, Bodelshausen\, 72411\, Deutschla
 nd
X-APPLE-STRUCTURED-LOCATION;VALUE=URI;X-ADDRESS=Bachgasse 2\, Bodelshausen\
 , 72411\, Deutschland;X-APPLE-RADIUS=100;X-TITLE=Forum Bodeshausen:geo:0,0
END:VEVENT
BEGIN:VTIMEZONE
TZID:Europe/Zurich
X-LIC-LOCATION:Europe/Zurich
BEGIN:STANDARD
DTSTART:20211031T020000
TZOFFSETFROM:+0200
TZOFFSETTO:+0100
TZNAME:CET
END:STANDARD
END:VTIMEZONE
END:VCALENDAR