BEGIN:VCALENDAR
VERSION:2.0
PRODID:-//wp-events-plugin.com//7.2.3.1//EN
TZID:Europe/Zurich
X-WR-TIMEZONE:Europe/Zurich
BEGIN:VEVENT
UID:1049@steinlachkultur.com
DTSTART;TZID=Europe/Zurich:20220903T210000
DTEND;TZID=Europe/Zurich:20220903T235500
DTSTAMP:20220421T071232Z
URL:https://steinlachkultur.com/events/sv-nehren-project-germany-baller-ma
 lle/
SUMMARY:SV Nehren Project Germany Baller Malle
DESCRIPTION:Baller Malle Party\, SV Nehren in Kooperation mit Project Germa
 ny. Nähere Informationen siehe Homepage Project Germany.\n\nEintrittskart
 en nur online und im Vorverkauf.
ATTACH;FMTTYPE=image/jpeg:https://steinlachkultur.com/wp-content/uploads/2
 022/04/SVN-PG-2.jpg
CATEGORIES:Musik
LOCATION:Sportgelände SV Nehren\, Steinlach 3\, Nehren\, 72147\, Deutschla
 nd
X-APPLE-STRUCTURED-LOCATION;VALUE=URI;X-ADDRESS=Steinlach 3\, Nehren\, 7214
 7\, Deutschland;X-APPLE-RADIUS=100;X-TITLE=Sportgelände SV Nehren:geo:0,0
END:VEVENT
BEGIN:VTIMEZONE
TZID:Europe/Zurich
X-LIC-LOCATION:Europe/Zurich
BEGIN:DAYLIGHT
DTSTART:20220327T030000
TZOFFSETFROM:+0100
TZOFFSETTO:+0200
TZNAME:CEST
END:DAYLIGHT
END:VTIMEZONE
END:VCALENDAR