BEGIN:VCALENDAR
VERSION:2.0
PRODID:-//wp-events-plugin.com//7.2.3.1//EN
TZID:Europe/Zurich
X-WR-TIMEZONE:Europe/Zurich
BEGIN:VEVENT
UID:8379@steinlachkultur.com
DTSTART;TZID=Europe/Zurich;VALUE=DATE:20250308
DTEND;TZID=Europe/Zurich;VALUE=DATE:20250310
DTSTAMP:20250227T151352Z
URL:https://steinlachkultur.com/events/tag-der-offenen-toepferei/
SUMMARY:Tag der offenen Töpferei
DESCRIPTION:Tag der offenen Töpferei\nAm ganzen Wochenende sind die Werkst
 att\, der Naturgarten und die Ausstellungsräume des Keramikatelier geöff
 net. In der Fahrschule ist ein Drechsler mit Drechselbank und macht Vorfü
 hrungen. Am Sonntag findet ab ca 14.40 Uhr ein öffentlicher Rakubrand im 
 Garten statt. Es gibt vieles rund um Töpferei und Brenntechnik zu bestaun
 en. Verschiedene Glasurtechniken\, Natron Wasserglastechnik\, Raku und Hor
 sehairraku werden erläutert und teilweise vorgeführt. Kuchen und Erfrisc
 hungen gibt es gegen eine Spende zu Gunsten von Kinder brauchen Frieden. B
 ei Fragen rufen sie mich an oder schreiben sie mir 015201961420
ATTACH;FMTTYPE=image/jpeg:https://steinlachkultur.com/wp-content/uploads/2
 025/02/Screenshot_20250227-145352.png
CATEGORIES:Vernissage/Finissage
LOCATION:bei Fahrschule Pohl\, Oelser Straße 1\, 1\, Hechingen\, 72379\, D
 eutschland
X-APPLE-STRUCTURED-LOCATION;VALUE=URI;X-ADDRESS=Oelser Straße 1\, 1\, Hech
 ingen\, 72379\, Deutschland;X-APPLE-RADIUS=100;X-TITLE=bei Fahrschule Pohl
 :geo:0,0
END:VEVENT
BEGIN:VTIMEZONE
TZID:Europe/Zurich
X-LIC-LOCATION:Europe/Zurich
BEGIN:STANDARD
DTSTART:20241027T020000
TZOFFSETFROM:+0200
TZOFFSETTO:+0100
TZNAME:CET
END:STANDARD
END:VTIMEZONE
END:VCALENDAR