BEGIN:VCALENDAR
VERSION:2.0
PRODID:-//wp-events-plugin.com//7.2.3.1//EN
TZID:Europe/Zurich
X-WR-TIMEZONE:Europe/Zurich
BEGIN:VEVENT
UID:8348@steinlachkultur.com
DTSTART;TZID=Europe/Zurich;VALUE=DATE:20250322
DTEND;TZID=Europe/Zurich;VALUE=DATE:20250323
DTSTAMP:20250203T093843Z
URL:https://steinlachkultur.com/events/tagesseminar-edelsteinheilkunde-nac
 h-hildegard-von-bingen/
SUMMARY:Tagesseminar "Edelsteinheilkunde nach Hildegard von Bingen"
DESCRIPTION:„Edelsteinheilkunde nach Hildegard von Bingen“\n\nHildegard
  von Bingen war ihrer Zeit in vielen Bereichen der Heilkunde weit voraus. 
 An diesem Tag werfen wir einen Blick auf ihr Leben und ihre Betrachtung vo
 n Gesundheit und Krankheit\, sowie ihre Auswahl von 24 edlen Steinen zu He
 ilungszwecken. Es werden praktische Anwendungsmöglichkeiten aufgezeigt\, 
 die auch zuhause wohltuend unterstützen können.
ATTACH;FMTTYPE=image/jpeg:https://steinlachkultur.com/wp-content/uploads/2
 025/02/Hildegard1.jpg
CATEGORIES:Kurse/Workshops
LOCATION:Schule für Qi-Gong &amp\; Tai Ji Quan Horst Bauer\, Alexanderstra
 ße 44\, 72072 Tübingen\, Deutschland
X-APPLE-STRUCTURED-LOCATION;VALUE=URI;X-ADDRESS=Alexanderstraße 44\, 72072
  Tübingen\, Deutschland;X-APPLE-RADIUS=100;X-TITLE=Schule für Qi-Gong & 
 Tai Ji Quan Horst Bauer:geo:0,0
END:VEVENT
BEGIN:VTIMEZONE
TZID:Europe/Zurich
X-LIC-LOCATION:Europe/Zurich
BEGIN:STANDARD
DTSTART:20241027T020000
TZOFFSETFROM:+0200
TZOFFSETTO:+0100
TZNAME:CET
END:STANDARD
END:VTIMEZONE
END:VCALENDAR