BEGIN:VCALENDAR
VERSION:2.0
PRODID:-//wp-events-plugin.com//7.2.3.1//EN
TZID:Europe/Zurich
X-WR-TIMEZONE:Europe/Zurich
BEGIN:VEVENT
UID:8349@steinlachkultur.com
DTSTART;TZID=Europe/Zurich;VALUE=DATE:20250323
DTEND;TZID=Europe/Zurich;VALUE=DATE:20250324
DTSTAMP:20250203T094228Z
URL:https://steinlachkultur.com/events/tagesseminar-entschlackung-entgiftu
 ng-mit-edlen-steinen/
SUMMARY:Tagesseminar "Entschlackung &amp\; Entgiftung mit edlen Steinen"
DESCRIPTION:„Entschlackung &amp\; Entgiftung mit edlen Steinen“\n\nIn d
 iesem Seminar werden die Grundlagen und Voraussetzungen für eine gesunde 
 Entschlackung und Entgiftung vermittelt.\nEs werden die wichtigsten Heilst
 eine besprochen und ihre Verwendung aufgezeigt. Praktische Anwendungen ver
 tiefen das Wissen\, wie die richtigen Heilsteine auch zuhause bestmöglich
  genutzt werden können.
ATTACH;FMTTYPE=image/jpeg:https://steinlachkultur.com/wp-content/uploads/2
 025/02/DiverseChalcedone.jpg
CATEGORIES:Kurse/Workshops
LOCATION:Schule für Qi-Gong &amp\; Tai Ji Quan Horst Bauer\, Alexanderstra
 ße 44\, 72072 Tübingen\, Deutschland
X-APPLE-STRUCTURED-LOCATION;VALUE=URI;X-ADDRESS=Alexanderstraße 44\, 72072
  Tübingen\, Deutschland;X-APPLE-RADIUS=100;X-TITLE=Schule für Qi-Gong & 
 Tai Ji Quan Horst Bauer:geo:0,0
END:VEVENT
BEGIN:VTIMEZONE
TZID:Europe/Zurich
X-LIC-LOCATION:Europe/Zurich
BEGIN:STANDARD
DTSTART:20241027T020000
TZOFFSETFROM:+0200
TZOFFSETTO:+0100
TZNAME:CET
END:STANDARD
END:VTIMEZONE
END:VCALENDAR