BEGIN:VCALENDAR
VERSION:2.0
PRODID:-//wp-events-plugin.com//7.2.3.1//EN
TZID:Europe/Zurich
X-WR-TIMEZONE:Europe/Zurich
BEGIN:VEVENT
UID:1753@steinlachkultur.com
DTSTART;TZID=Europe/Zurich:20220911T090000
DTEND;TZID=Europe/Zurich:20220911T180000
DTSTAMP:20220817T175606Z
URL:https://steinlachkultur.com/events/tageswanderung-albtraufwanderung-zu
 r-burg-teck/
SUMMARY:Tageswanderung Albtraufwanderung zur Burg Teck
DESCRIPTION:Wir treffen uns um 9 Uhr am Haldenplatz und fahren mit dem Auto
  nach Bissingen/Teck\n\nDieser prächtige Rundwanderweg führt uns in eine
 m schönen Bogen immer am Albtrauf entlang rund um Bissingen über den Bre
 itenstein\, die Burgruine Rauber zur Burg Teck. Dort können wir mit herrl
 icher Aussicht einkehren. Der Abstieg über das Hörnle bietet noch einmal
  schönste Ausblicke ins Albvorland und wer möchte\, kann am Ende der Tou
 r noch die Füße oder mehr in den kleinen Bissinger Badesee strecken. (Ev
 tl. Badehose und Handtuch mitnehmen).\n\nWegstrecke: ca. 14 km\, ca. 600 H
 m Aufstiege\, Gehzeit 4\,5-5 Std.\n\nGäste wie immer herzlich willkommen\
 n\nAuf zahlreiche Wanderer und Gäste freut sich Bärbel Feldweg
ATTACH;FMTTYPE=image/jpeg:https://steinlachkultur.com/wp-content/uploads/2
 022/08/Gruppe_zum_Vulkan.jpg
CATEGORIES:Führungen
LOCATION:Start am Haldenplatz\, Lindenstraße 80\, Gomaringen\, 72810\, Deu
 tschland
X-APPLE-STRUCTURED-LOCATION;VALUE=URI;X-ADDRESS=Lindenstraße 80\, Gomaring
 en\, 72810\, Deutschland;X-APPLE-RADIUS=100;X-TITLE=Start am Haldenplatz:g
 eo:0,0
END:VEVENT
BEGIN:VTIMEZONE
TZID:Europe/Zurich
X-LIC-LOCATION:Europe/Zurich
BEGIN:DAYLIGHT
DTSTART:20220327T030000
TZOFFSETFROM:+0100
TZOFFSETTO:+0200
TZNAME:CEST
END:DAYLIGHT
END:VTIMEZONE
END:VCALENDAR