BEGIN:VCALENDAR
VERSION:2.0
PRODID:-//wp-events-plugin.com//7.2.3.1//EN
TZID:Europe/Zurich
X-WR-TIMEZONE:Europe/Zurich
BEGIN:VEVENT
UID:1665@steinlachkultur.com
DTSTART;TZID=Europe/Zurich:20220929T200000
DTEND;TZID=Europe/Zurich:20220929T210000
DTSTAMP:20220714T090730Z
URL:https://steinlachkultur.com/events/unterwegs-in-fremden-kulturen-schwe
 den-land-der-mitternachtssonne/
SUMMARY:Unterwegs in fremden Kulturen Schweden - Land der Mitternachtssonne
DESCRIPTION:Schwedenfans nimmt Eike Albrecht in ihrer live moderierten Foto
 schau mit auf eine Reise durch Schweden. Beginnend in Stockholm\, der Haup
 tstadt Schwedens\, zwischen Mälarsee und Ostsee gelegen und von Wasser um
 geben\, deshalb auch liebevoll  „Venedig des Nordens“ genannt\, führ
 t ihr Bildervortrag zu der Naturlandschaft des Tyresta Nationalparks und d
 em Landstrich rund um den Mälarsee. Von den kulturellen Höhepunkten\, wi
 e Schloss Drottningholm\, den Grabhügeln Anundshögen aus der Wikingerzei
 t und der Silbergrube von Sala\, bis nach Kolarbyn\, nimmt sie die Zuschau
 er mit in die ausgedehnten  Wälder Schwedens. Zum Abschluss geht es in d
 ie lebendige Studentenstadt Uppsala.
ATTACH;FMTTYPE=image/jpeg:https://steinlachkultur.com/wp-content/uploads/2
 022/07/typisches-Bild-Rentier-auf-den-Straƒenklein.jpg
CATEGORIES:Vorträge/Lesungen
LOCATION:Bürgersaal Schloß Gomaringen\, Schlosshof 1\, Gomaringen\, 72810
 \, Deutschland
X-APPLE-STRUCTURED-LOCATION;VALUE=URI;X-ADDRESS=Schlosshof 1\, Gomaringen\,
  72810\, Deutschland;X-APPLE-RADIUS=100;X-TITLE=Bürgersaal Schloß Gomari
 ngen:geo:0,0
END:VEVENT
BEGIN:VTIMEZONE
TZID:Europe/Zurich
X-LIC-LOCATION:Europe/Zurich
BEGIN:DAYLIGHT
DTSTART:20220327T030000
TZOFFSETFROM:+0100
TZOFFSETTO:+0200
TZNAME:CEST
END:DAYLIGHT
END:VTIMEZONE
END:VCALENDAR