BEGIN:VCALENDAR
VERSION:2.0
PRODID:-//wp-events-plugin.com//7.2.3.1//EN
TZID:Europe/Zurich
X-WR-TIMEZONE:Europe/Zurich
BEGIN:VEVENT
UID:1827@steinlachkultur.com
DTSTART;TZID=Europe/Zurich:20220930T000000
DTEND;TZID=Europe/Zurich:20221127T000000
DTSTAMP:20221121T202939Z
URL:https://steinlachkultur.com/events/vernissage-29-september-1900-uhr-ja
 hresausstellung-blau-kreatives-gomaringen-rathaus-gomaringen-2/
SUMMARY:Jahresausstellung BLAU - Kreatives Gomaringen - Rathaus Gomaringen
DESCRIPTION:Noch bis einschließlich 1. Advent lädt das Kreative Gomaringe
 n ins Rathaus zur Jahresausstellung ein.\nIn beiden Stockwerken hängen un
 d stehen die unterschiedlichsten Werke zum Thema "Blau".\n\nFührungen dur
 ch die Ausstellung zur Finissage am 1. Adventswochenende:\nSa 26.11.22 18:
 15 Uhr und 19:15 Uhr / Rathaus geöffnet von 14 - 20 Uhr\nSo 27.11.22 19:1
 5 und 20:15 Uhr / Rathaus geöffnet von 11 - 18 Uhr\n\nEs führen jeweils 
 durch die Ausstellung: Birgit Wallisser-Nuber und Henriette Diether\n\nBit
 te beachten Sie die Öffnungszeiten des Rathauses Gomaringen:\nhttps://www
 .gomaringen.de/rathaus-politik/gemeindeverwaltung/kontakt-oeffnungszeiten\
 n\n&nbsp\;
ATTACH;FMTTYPE=image/jpeg:https://steinlachkultur.com/wp-content/uploads/2
 022/09/BLAU.jpg
CATEGORIES:Vernissage/Finissage
LOCATION:Rathaus Gomaringen\, Lindenstraße 63\, Gomaringen\, 72810\, Deuts
 chland
X-APPLE-STRUCTURED-LOCATION;VALUE=URI;X-ADDRESS=Lindenstraße 63\, Gomaring
 en\, 72810\, Deutschland;X-APPLE-RADIUS=100;X-TITLE=Rathaus Gomaringen:geo
 :0,0
END:VEVENT
BEGIN:VTIMEZONE
TZID:Europe/Zurich
X-LIC-LOCATION:Europe/Zurich
BEGIN:DAYLIGHT
DTSTART:20220327T030000
TZOFFSETFROM:+0100
TZOFFSETTO:+0200
TZNAME:CEST
END:DAYLIGHT
BEGIN:STANDARD
DTSTART:20221030T020000
TZOFFSETFROM:+0200
TZOFFSETTO:+0100
TZNAME:CET
END:STANDARD
END:VTIMEZONE
END:VCALENDAR